BEGIN:VCALENDAR
VERSION:2.0
PRODID:-//IPPE 2026 Atlanta — Local Booth Builder &amp; Rentals - ECPv6.15.20//NONSGML v1.0//EN
CALSCALE:GREGORIAN
METHOD:PUBLISH
X-ORIGINAL-URL:https://ippe2026.com
X-WR-CALDESC:Events for IPPE 2026 Atlanta — Local Booth Builder &amp; Rentals
REFRESH-INTERVAL;VALUE=DURATION:PT1H
X-Robots-Tag:noindex
X-PUBLISHED-TTL:PT1H
BEGIN:VTIMEZONE
TZID:UTC
BEGIN:STANDARD
TZOFFSETFROM:+0000
TZOFFSETTO:+0000
TZNAME:UTC
DTSTART:20250101T000000
END:STANDARD
END:VTIMEZONE
BEGIN:VEVENT
DTSTART;TZID=UTC:20260418T090000
DTEND;TZID=UTC:20260422T235959
DTSTAMP:20260423T195108
CREATED:20251021T180815Z
LAST-MODIFIED:20251021T180815Z
UID:25858-1776502800-1776902399@ippe2026.com
SUMMARY:NAB RADIO SHOW 2026
DESCRIPTION:NAB RADIO SHOW 2026 — Exhibitor Guide & Premium Booth Options\nAbout NAB RADIO SHOW 2026\nNAB RADIO SHOW 2026 booth rental for Las Vegas offers exhibitors a unique opportunity to present their latest innovations in broadcasting\, television\, multimedia technologies\, and sound and image solutions. This dynamic event brings together industry leaders from the media and entertainment sectors\, allowing attendees to connect\, collaborate\, and explore cutting-edge advancements. The event features engaging sessions\, workshops\, and networking opportunities that can significantly enhance your visibility and impact in the industry. \nKey Details:\nDate: Apr 18–21\, 2026\, 9:00 AM–5:00 PM\nLocation: Las Vegas Convention Center\nAddress: 3150 Paradise Road\, Las Vegas\, NV 89109\, USA \nIndustries & Audience: Broadcasting\, Television & Entertainment\, Sound & Image Technologies\, Multimedia Technologies \nVenue & Location\nThe event will be hosted at the Las Vegas Convention Center\, located conveniently at 3150 Paradise Road\, Las Vegas\, NV\, USA. The venue offers easy access and a variety of services to suit your trade show needs\, along with docking access for seamless logistics. \nLas Vegas NV: Our Services\nIn Las Vegas NV\, we design\, produce\, install & dismantle turnkey booth rentals. Our services include concept/design\, modular frames\, branded SEG graphics\, reception/storage\, TV mount\, and on-site installation and dismantle. We make sure every aspect of your booth is perfectly executed to showcase your brand. \nCustom Booth Models\nWe offer a range of popular booth footprints ideal for your needs\, including: \n\n10×10 Booths: Perfect for small displays and intimate interactions.\n10×20 Booths: A spacious option for a more substantial presence\, allowing for more interactive setups.\n20×20 Booths: Designed for maximum impact\, these larger footprints cater to extensive branding and networking needs.\n\nFor more information on our Snap Exhibitions Custom Booth Models and full-service exhibit support\, please visit our website. To discuss your project further\, contact our team. \nFAQ\nQ: What is the NAB RADIO SHOW 2026 booth rental?\nA: NAB RADIO SHOW 2026 booth rental provides exhibitors the chance to showcase their innovations effectively in Las Vegas. \nQ: What are the dates and hours of the event?\nA: The event runs from April 18–21\, 2026\, from 9:00 AM to 5:00 PM. \nQ: What booth sizes are recommended for the broadcasting sector?\nA: For the broadcasting sector\, we recommend 10×10 or 10×20 booths as they provide flexibility and ample space for engagement. \nQ: Why is an aluminum booth better than wood?\nA: Aluminum booths are lighter\, reusable\, and often more visually appealing than wooden ones\, providing a modern aesthetic. \nQ: What can I expect in Las Vegas during the NAB RADIO SHOW 2026?\nA: Expect a vibrant atmosphere with countless networking opportunities and access to industry leaders and innovations. \nQ: How can SNAP EXHIBITIONS help make everything perfect about my booth?\nA: We specialize in turnkey booth rentals and can assist from design to installation\, ensuring a flawless execution of your vision. \nIn conclusion\, NAB RADIO SHOW 2026 booth rental in Las Vegas offers exhibitors an unforgettable platform to showcase their innovations. For seamless solutions and to maximize your exhibition experience\, contact our team today!
URL:https://ippe2026.com/event/nab-radio-show-2026/
CATEGORIES:Broadcasting,Multimedia Technologies,Sound & Image Technologies,Television & Entertainment
END:VEVENT
BEGIN:VEVENT
DTSTART;TZID=UTC:20260418T090000
DTEND;TZID=UTC:20260422T235959
DTSTAMP:20260423T195108
CREATED:20251021T180842Z
LAST-MODIFIED:20251021T180842Z
UID:25859-1776502800-1776902399@ippe2026.com
SUMMARY:NAB SHOW 2026
DESCRIPTION:NAB SHOW 2026 booth rental — Ultimate Exhibitor Guide & Custom Booth Options\nAbout NAB SHOW 2026\nVenue & Location\nLas Vegas NV: Our Services\nCustom Booth Models\nFAQ\nNAB SHOW 2026 — An Overview\nNAB SHOW 2026 booth rental is a great opportunity for exhibitors looking to make a significant impact at one of the most esteemed events in the industry. It congregates over 46\,000 buyers spanning the realms of broadcasting\, media\, entertainment\, and multimedia technologies\, providing a fertile ground for making crucial connections and gaining insights into cutting-edge innovations.\nThis event\, scheduled from May 8–11\, 2026\, at the **Las Vegas Convention Center**\, promises to be an essential hub for businesses and professionals in **Broadcasting\, Television & Entertainment\, Multimedia Technologies\, and Video Games – Interactive Entertainment**.  \n**Key Details:**\n**Dates:** May 8–11\, 2026 (9:00 AM–5:00 PM)\n**Location:** Las Vegas Convention Center\n**Address:** 3150 Paradise Road\, Las Vegas\, NV 89109\, USA   \nWhether you’re looking to discover innovative products\, engage with industry pioneers\, or secure your spot among leading brands\, NAB SHOW 2026 presents an unparalleled experience for visitors and exhibitors alike.   \nVenue & Location\nThe event will take place at **Las Vegas Convention Center**\, located at **3150 Paradise Road\, Las Vegas\, NV 89109\, USA**. The venue offers excellent accessibility for exhibitors concerning logistics like move-in windows and dock access\, ensuring an efficient setup for your booth.  \nLas Vegas NV: Our Services\nIn Las Vegas\, NV\, we DESIGN\, PRODUCE\, INSTALL & DISMANTLE turnkey **booth rentals**. Our comprehensive offerings include concept and design\, modular frames\, branded SEG graphics\, reception and storage areas\, TV mounts\, alongside on-site installation and dismantling services.   \nPopular Booth Models for NAB SHOW 2026\nOur **Snap Exhibitions Custom Booth Models** are tailored to fit the needs of exhibitors attending NAB SHOW 2026. We offer various popular booth footprints such as 10×10\, 10×20\, and 20×20 designs. Each of these models is carefully crafted to capture attendees’ attention within the **Broadcasting\, Television & Entertainment** sectors. To explore all our options\, check out our full-service exhibit support. For any inquiries or assistance\, you can also **contact our team**. \nFrequently Asked Questions\n**Q1: What is NAB SHOW 2026 booth rental?**\nA: NAB SHOW 2026 booth rental provides you with a customizable space to showcase your brand amid one of the largest gatherings in the broadcasting and media industries. \n**Q2: When is NAB SHOW 2026?**\nA: It takes place from May 8–11\, 2026\, from 9:00 AM to 5:00 PM. \n**Q3: What booth size do you recommend for the Broadcasting sector?**\nA: Popular sizes such as 10×20 and 20×20 are recommended to effectively showcase products and attract visitors. \n**Q4: Why is an aluminum booth better than wood?**\nA: Aluminum booths are lighter\, more durable\, and easier to transport and set up compared to wooden booths. \n**Q5: What can I expect when attending NAB SHOW in Las Vegas?**\nA: Expect innovative products\, insightful discussions\, and excellent networking opportunities with industry leaders. \n**Q6: How can SNAP EXHIBITIONS help make everything perfect about my booth?**\nA: We specialize in providing fully turnkey booth rental services\, ensuring every detail is catered to your needs. \nIn conclusion\, NAB SHOW 2026 booth rental is an opportunity not to be missed. If you’re ready to make a statement\, visit us at https://snapexhibitions.com/contact-snap-exhibitions/ to get started on your perfect booth experience!
URL:https://ippe2026.com/event/nab-show-2026/
CATEGORIES:Broadcasting,Multimedia Technologies,Television & Entertainment,Video Games - Interactive Entertainment
END:VEVENT
BEGIN:VEVENT
DTSTART;TZID=UTC:20260420T090000
DTEND;TZID=UTC:20260425T235959
DTSTAMP:20260423T195108
CREATED:20251021T164836Z
LAST-MODIFIED:20251021T164836Z
UID:25767-1776675600-1777161599@ippe2026.com
SUMMARY:FDIC - FIRE DEPARTMENTS INSTRUCTORS CONFERENCE 2026
DESCRIPTION:FDIC – FIRE DEPARTMENTS INSTRUCTORS CONFERENCE 2026 booth rental — Ultimate Exhibitor Guide & Custom Booth Options\nAbout FDIC – FIRE DEPARTMENTS INSTRUCTORS CONFERENCE 2026\nFDIC – FIRE DEPARTMENTS INSTRUCTORS CONFERENCE 2026 booth rental is essential for exhibitors looking to make a strong impact at this premier event. Scheduled from March 1–3\, 2026\, 9:00 AM–5:00 PM at the Indiana Convention Center\, located at 100 S Capitol Ave. Indianapolis\, IN 46225\, USA\, this conference attracts the largest gathering of decision-makers\, trainers\, and experts in the fields of Security – Risk Management\, Building & Construction\, and Health Professionals. Attendees benefit from unparalleled networking opportunities and relationship-building with key industry players. \nKey Details:\nDate: March 1–3\, 2026\nLocation: Indiana Convention Center\nAddress: 100 S Capitol Ave. Indianapolis\, IN 46225\, USA \nThe event provides a platform for connecting with manufacturers and suppliers\, making it a pivotal moment for participants eager to expand their influence and market presence. \nVenue & Location\nThe FDIC event will be hosted at the Indiana Convention Center\, located at 100 S Capitol Ave. Indianapolis\, IN 46225\, USA. Exhibitors will find convenient access for move-in and logistics due to its centralized location. For any inquiries\, please reach out at the provided phone number. \nIndianapolis IN: Our Services\nWe DESIGN\, PRODUCE\, INSTALL & DISMANTLE turnkey booth rentals in Indianapolis IN. Our comprehensive services include concept design\, modular frames\, branded SEG graphics\, reception/storage solutions\, and on-site installation and dismantling. \nCustom Booth Models\nFor your participation at FDIC 2026\, consider our Snap Exhibitions Custom Booth Models. Popular booth footprints include: \n\n10×10: Ideal for small exhibits\, offering an effective way to showcase essentials.\n10×20: A versatile option providing more space for interaction and display.\n20×20: Perfect for those aiming for maximum exposure in the marketplace.\n\nEach of these sizes aligns well with exhibitors in the Security – Risk Management\, Building & Construction\, and Health Professionals sectors by facilitating efficient attendee engagement. \nFor full-service exhibit support\, visit our site for more details on how we can elevate your trade show experience and ensure a seamless event at our services page. \nFAQ\n\nWhat options are available for FDIC – FIRE DEPARTMENTS INSTRUCTORS CONFERENCE 2026 booth rental? We provide custom booth options tailored to your needs.\nWhat are the event hours for FDIC 2026? The event runs from March 1–3\, 2026\, from 9:00 AM to 5:00 PM.\nWhat booth sizes do you recommend for the health professionals sector? Booth sizes like 10×10 and 10×20 work well for health professionals\, allowing adequate space to engage with attendees.\nWhy is an aluminum booth better than wood? Aluminum booths are lightweight and more durable\, providing a sleek\, modern look while being easier to set up and dismantle.\nWhat makes Indianapolis a great venue for trade shows? Indianapolis offers excellent access and amenities\, making it a hub for trade shows.\nHow can SNAP EXHIBITIONS help make everything perfect about my booth? We provide comprehensive support from design to installation\, ensuring your booth stands out with perfect execution.\nWhat is included in the booth rental fees? Our booth rentals typically include all set-up materials\, design consultations\, and on-site support.\n\nFor ultimate FDIC – FIRE DEPARTMENTS INSTRUCTORS CONFERENCE 2026 booth rental solutions\, we urge you to contact our team today!
URL:https://ippe2026.com/event/fdic-fire-departments-instructors-conference-2026/
CATEGORIES:Building & Construction,Health Professionals,Security - Risk Management
END:VEVENT
END:VCALENDAR