BEGIN:VCALENDAR
VERSION:2.0
PRODID:-//IPPE 2026 Atlanta — Local Booth Builder &amp; Rentals - ECPv6.15.20//NONSGML v1.0//EN
CALSCALE:GREGORIAN
METHOD:PUBLISH
X-WR-CALNAME:IPPE 2026 Atlanta — Local Booth Builder &amp; Rentals
X-ORIGINAL-URL:https://ippe2026.com
X-WR-CALDESC:Events for IPPE 2026 Atlanta — Local Booth Builder &amp; Rentals
REFRESH-INTERVAL;VALUE=DURATION:PT1H
X-Robots-Tag:noindex
X-PUBLISHED-TTL:PT1H
BEGIN:VTIMEZONE
TZID:UTC
BEGIN:STANDARD
TZOFFSETFROM:+0000
TZOFFSETTO:+0000
TZNAME:UTC
DTSTART:20250101T000000
END:STANDARD
END:VTIMEZONE
BEGIN:VEVENT
DTSTART;TZID=UTC:20260420T090000
DTEND;TZID=UTC:20260425T235959
DTSTAMP:20260423T191634
CREATED:20251021T164836Z
LAST-MODIFIED:20251021T164836Z
UID:25767-1776675600-1777161599@ippe2026.com
SUMMARY:FDIC - FIRE DEPARTMENTS INSTRUCTORS CONFERENCE 2026
DESCRIPTION:FDIC – FIRE DEPARTMENTS INSTRUCTORS CONFERENCE 2026 booth rental — Ultimate Exhibitor Guide & Custom Booth Options\nAbout FDIC – FIRE DEPARTMENTS INSTRUCTORS CONFERENCE 2026\nFDIC – FIRE DEPARTMENTS INSTRUCTORS CONFERENCE 2026 booth rental is essential for exhibitors looking to make a strong impact at this premier event. Scheduled from March 1–3\, 2026\, 9:00 AM–5:00 PM at the Indiana Convention Center\, located at 100 S Capitol Ave. Indianapolis\, IN 46225\, USA\, this conference attracts the largest gathering of decision-makers\, trainers\, and experts in the fields of Security – Risk Management\, Building & Construction\, and Health Professionals. Attendees benefit from unparalleled networking opportunities and relationship-building with key industry players. \nKey Details:\nDate: March 1–3\, 2026\nLocation: Indiana Convention Center\nAddress: 100 S Capitol Ave. Indianapolis\, IN 46225\, USA \nThe event provides a platform for connecting with manufacturers and suppliers\, making it a pivotal moment for participants eager to expand their influence and market presence. \nVenue & Location\nThe FDIC event will be hosted at the Indiana Convention Center\, located at 100 S Capitol Ave. Indianapolis\, IN 46225\, USA. Exhibitors will find convenient access for move-in and logistics due to its centralized location. For any inquiries\, please reach out at the provided phone number. \nIndianapolis IN: Our Services\nWe DESIGN\, PRODUCE\, INSTALL & DISMANTLE turnkey booth rentals in Indianapolis IN. Our comprehensive services include concept design\, modular frames\, branded SEG graphics\, reception/storage solutions\, and on-site installation and dismantling. \nCustom Booth Models\nFor your participation at FDIC 2026\, consider our Snap Exhibitions Custom Booth Models. Popular booth footprints include: \n\n10×10: Ideal for small exhibits\, offering an effective way to showcase essentials.\n10×20: A versatile option providing more space for interaction and display.\n20×20: Perfect for those aiming for maximum exposure in the marketplace.\n\nEach of these sizes aligns well with exhibitors in the Security – Risk Management\, Building & Construction\, and Health Professionals sectors by facilitating efficient attendee engagement. \nFor full-service exhibit support\, visit our site for more details on how we can elevate your trade show experience and ensure a seamless event at our services page. \nFAQ\n\nWhat options are available for FDIC – FIRE DEPARTMENTS INSTRUCTORS CONFERENCE 2026 booth rental? We provide custom booth options tailored to your needs.\nWhat are the event hours for FDIC 2026? The event runs from March 1–3\, 2026\, from 9:00 AM to 5:00 PM.\nWhat booth sizes do you recommend for the health professionals sector? Booth sizes like 10×10 and 10×20 work well for health professionals\, allowing adequate space to engage with attendees.\nWhy is an aluminum booth better than wood? Aluminum booths are lightweight and more durable\, providing a sleek\, modern look while being easier to set up and dismantle.\nWhat makes Indianapolis a great venue for trade shows? Indianapolis offers excellent access and amenities\, making it a hub for trade shows.\nHow can SNAP EXHIBITIONS help make everything perfect about my booth? We provide comprehensive support from design to installation\, ensuring your booth stands out with perfect execution.\nWhat is included in the booth rental fees? Our booth rentals typically include all set-up materials\, design consultations\, and on-site support.\n\nFor ultimate FDIC – FIRE DEPARTMENTS INSTRUCTORS CONFERENCE 2026 booth rental solutions\, we urge you to contact our team today!
URL:https://ippe2026.com/event/fdic-fire-departments-instructors-conference-2026/
CATEGORIES:Building & Construction,Health Professionals,Security - Risk Management
END:VEVENT
BEGIN:VEVENT
DTSTART;TZID=UTC:20260422T090000
DTEND;TZID=UTC:20260424T235959
DTSTAMP:20260423T191634
CREATED:20251021T164049Z
LAST-MODIFIED:20251021T164049Z
UID:25751-1776848400-1777075199@ippe2026.com
SUMMARY:DEALERPOINT 2026
DESCRIPTION:DEALERPOINT 2026 booth rental — Exhibitor Guide & Premium Options\nAbout DEALERPOINT 2026\nVenue & Location\nOrlando FL: Our Services\nCustom Booth Models\nFAQ\nAbout DEALERPOINT 2026\nDEALERPOINT 2026 booth rental is essential for participants looking to maximize their presence at this premier auto retail event. It’s a unique opportunity for industry leaders to establish strong connections with dealership owners and decision-makers. The event fosters a structured environment that promotes networking and learning. Key Details:\n1776-07:00:00–1777-11:00:00\, Hyatt Regency Grand Cypress Resort\, 1 Grand Cypress Blvd\, Orlando\, FL 32836\, United States. For more information\, visit the official site. \nIndustries & Audience: General Automobile\, Automotive Engineering – Systems & Components\, Workshop & Service Station Equipment\, Marketing & Selling. \nVenue & Location\nThe event will be held at the Hyatt Regency Grand Cypress Resort\, located at 1 Grand Cypress Blvd\, Orlando\, FL 32836\, United States. This centrally located site facilitates easy access for exhibitors and visitors alike. Attendees can expect efficient logistics to support a seamless experience throughout the event. \nOrlando FL: Our Services\nIn Orlando FL\, we DESIGN\, PRODUCE\, INSTALL & DISMANTLE turnkey booth rentals. We cover all aspects of booth creation\, including concept design\, modular frames\, branded SEG graphics\, reception/storage\, TV mounts\, and on-site installation and dismantling. \nCustom Booth Models\nWe offer a range of popular booth sizes that cater to the needs of exhibitors in the automotive sector. Our standout footprints\, such as 10×10\, 10×20\, and 20×20\, are designed to enhance visibility while aligning with industry standards. Each booth can be customized to provide an impactful and memorable attendee experience. Count on our full-service exhibit support for all your event requirements. \nFAQ\nQ: What is the DEALERPOINT 2026 booth rental?A: The DEALERPOINT 2026 booth rental provides exhibitors with a premium platform to connect with key decision-makers in the automotive industry. \nQ: What are the event dates and hours for DEALERPOINT 2026?A: The event runs from December 1–3\, 2026\, with daily hours from 9:00 AM to 5:00 PM. \nQ: What booth sizes do you recommend for the automotive industry?A: Commonly recommended sizes for the automotive industry include 10×10 and 20×20 booths\, which can accommodate various display needs. \nQ: Why is an aluminum booth better than wood?A: Aluminum is lightweight\, durable\, and recyclable\, making it superior in construction ease and cost-effectiveness compared to wood. \nQ: What are some local attractions in Orlando near the venue?A: Orlando boasts numerous attractions\, including theme parks and entertainment venues\, ideal for attendees looking to explore after the event. \nQ: How can SNAP EXHIBITIONS help ensure my booth is perfect?A: We excel in delivering personalized solutions tailored to ensure your booth stands out at DEALERPOINT 2026. Contact our team for more details! \nIn summary\, DEALERPOINT 2026 booth rental provides a unique opportunity for exhibitors in Orlando FL. We are here to assist you with every aspect of your booth setup\, ensuring a successful experience at this vital industry event. Don’t hesitate to contact our team for your next event!
URL:https://ippe2026.com/event/dealerpoint-2026/
CATEGORIES:Automotive Engineering - Systems & Components,General Automobile,Marketing & Selling,Workshop & Service Station Equipment
END:VEVENT
BEGIN:VEVENT
DTSTART;TZID=UTC:20260424T090000
DTEND;TZID=UTC:20260426T235959
DTSTAMP:20260423T191634
CREATED:20251021T073152Z
LAST-MODIFIED:20251021T073152Z
UID:25615-1777021200-1777247999@ippe2026.com
SUMMARY:ANNAPOLIS SPRING SAILBOAT SHOW 2026
DESCRIPTION:Annapolis Spring Sailboat Show 2026 booth rental — Essential Guide\nAbout Annapolis Spring Sailboat Show 2026\nWelcome to the Annapolis Spring Sailboat Show 2026 booth rental\, where boating enthusiasts gather for a unique experience. This trade show focuses on the boat industry\, featuring everything from essential boating equipment to foul weather gear and nautical education. You can discover the latest advancements\, purchase top-notch gear\, and attend engaging seminars tailored for boat owners and sailing fans alike. \nKey Details: Apr 22–24\, 10:00 AM–6:00 PM\, Annapolis City Dock\, Dock St Annapolis\, MD 21401\, United States. For more information\, visit our event page. \nIndustries & Audience: Interested attendees from Boating\, Sailing & Water Sports\, Sports\, Hunting & Fishing sectors will find valuable insights at this event. \nVenue & Location\nThe event takes place at the Annapolis City Dock\, located at Dock St Annapolis\, MD 21401\, United States. The venue is well-equipped for exhibitors\, providing easy access for setup and dismantling. While the specifics on move-in windows and dock access are not provided\, we assure you that your experience will be seamless. \nAnnapolis MD: Our Services\nIn Annapolis\, we DESIGN\, PRODUCE\, INSTALL & DISMANTLE turnkey booth rentals. Our comprehensive services include concept and design\, modular frames\, branded SEG graphics\, reception/storage space\, and TV mounts. We’re here to ensure that your exhibit stands out and meets your unique requirements. \nCustom Booth Models\nOur Snap Exhibitions Custom Booth Models fit a variety of footprints\, including popular sizes like 10×10\, 10×20\, and 20×20. These models cater specifically to the needs of attendees in the boating and sports sectors\, providing a perfect platform to showcase your products effectively. \nFor more on our offerings\, visit our full-service exhibit support page\, or contact our team for a tailored solution for your exhibition needs. \nFAQ\nWhat is the Annapolis Spring Sailboat Show 2026 booth rental? \nThe Annapolis Spring Sailboat Show 2026 booth rental is a service designed for exhibitors to secure a prominent display at the event\, enhancing visibility and engagement with the audience. \nWhen are the event hours? \nThe event will take place from April 22 to April 24\, 10:00 AM to 6:00 PM each day. \nWhat booth sizes do you recommend for the boating category? \nWe recommend starting with 10×10 or 10×20 booths\, which are popular choices among exhibitors in the boating category\, allowing ample space for product displays and customer interaction. \nWhy is an aluminum booth better than wood? \nAluminum booths offer better durability\, lightweight design\, and ease of transport compared to wooden setups\, making them a preferable choice for most exhibitors. \nWhat can I expect in Annapolis for this event? \nAnnapolis will provide a vibrant atmosphere filled with nautical enthusiasts\, offering you the chance to connect with like-minded individuals and showcase your innovative products. \nHow can SNAP EXHIBITIONS help me make everything perfect about my booth? \nWith our turnkey booth rental solutions at SNAP EXHIBITIONS\, we ensure that every aspect of your exhibition booth is tailored to your needs—from design to installation\, ensuring you stand out at the Annapolis Spring Sailboat Show. \nJoin us at the Annapolis Spring Sailboat Show 2026 booth rental for a rewarding experience and make the most out of your exhibition. For inquiries or to book\, contact our team today!
URL:https://ippe2026.com/event/annapolis-spring-sailboat-show-2026/
CATEGORIES:Boating,Hunting & Fishing,Sailing & Water Sports,Sports
END:VEVENT
END:VCALENDAR