BEGIN:VCALENDAR
VERSION:2.0
PRODID:-//IPPE 2026 Atlanta — Local Booth Builder &amp; Rentals - ECPv6.15.20//NONSGML v1.0//EN
CALSCALE:GREGORIAN
METHOD:PUBLISH
X-WR-CALNAME:IPPE 2026 Atlanta — Local Booth Builder &amp; Rentals
X-ORIGINAL-URL:https://ippe2026.com
X-WR-CALDESC:Events for IPPE 2026 Atlanta — Local Booth Builder &amp; Rentals
REFRESH-INTERVAL;VALUE=DURATION:PT1H
X-Robots-Tag:noindex
X-PUBLISHED-TTL:PT1H
BEGIN:VTIMEZONE
TZID:UTC
BEGIN:STANDARD
TZOFFSETFROM:+0000
TZOFFSETTO:+0000
TZNAME:UTC
DTSTART:20250101T000000
END:STANDARD
END:VTIMEZONE
BEGIN:VEVENT
DTSTART;TZID=UTC:20260424T090000
DTEND;TZID=UTC:20260426T235959
DTSTAMP:20260423T212945
CREATED:20251021T073152Z
LAST-MODIFIED:20251021T073152Z
UID:25615-1777021200-1777247999@ippe2026.com
SUMMARY:ANNAPOLIS SPRING SAILBOAT SHOW 2026
DESCRIPTION:Annapolis Spring Sailboat Show 2026 booth rental — Essential Guide\nAbout Annapolis Spring Sailboat Show 2026\nWelcome to the Annapolis Spring Sailboat Show 2026 booth rental\, where boating enthusiasts gather for a unique experience. This trade show focuses on the boat industry\, featuring everything from essential boating equipment to foul weather gear and nautical education. You can discover the latest advancements\, purchase top-notch gear\, and attend engaging seminars tailored for boat owners and sailing fans alike. \nKey Details: Apr 22–24\, 10:00 AM–6:00 PM\, Annapolis City Dock\, Dock St Annapolis\, MD 21401\, United States. For more information\, visit our event page. \nIndustries & Audience: Interested attendees from Boating\, Sailing & Water Sports\, Sports\, Hunting & Fishing sectors will find valuable insights at this event. \nVenue & Location\nThe event takes place at the Annapolis City Dock\, located at Dock St Annapolis\, MD 21401\, United States. The venue is well-equipped for exhibitors\, providing easy access for setup and dismantling. While the specifics on move-in windows and dock access are not provided\, we assure you that your experience will be seamless. \nAnnapolis MD: Our Services\nIn Annapolis\, we DESIGN\, PRODUCE\, INSTALL & DISMANTLE turnkey booth rentals. Our comprehensive services include concept and design\, modular frames\, branded SEG graphics\, reception/storage space\, and TV mounts. We’re here to ensure that your exhibit stands out and meets your unique requirements. \nCustom Booth Models\nOur Snap Exhibitions Custom Booth Models fit a variety of footprints\, including popular sizes like 10×10\, 10×20\, and 20×20. These models cater specifically to the needs of attendees in the boating and sports sectors\, providing a perfect platform to showcase your products effectively. \nFor more on our offerings\, visit our full-service exhibit support page\, or contact our team for a tailored solution for your exhibition needs. \nFAQ\nWhat is the Annapolis Spring Sailboat Show 2026 booth rental? \nThe Annapolis Spring Sailboat Show 2026 booth rental is a service designed for exhibitors to secure a prominent display at the event\, enhancing visibility and engagement with the audience. \nWhen are the event hours? \nThe event will take place from April 22 to April 24\, 10:00 AM to 6:00 PM each day. \nWhat booth sizes do you recommend for the boating category? \nWe recommend starting with 10×10 or 10×20 booths\, which are popular choices among exhibitors in the boating category\, allowing ample space for product displays and customer interaction. \nWhy is an aluminum booth better than wood? \nAluminum booths offer better durability\, lightweight design\, and ease of transport compared to wooden setups\, making them a preferable choice for most exhibitors. \nWhat can I expect in Annapolis for this event? \nAnnapolis will provide a vibrant atmosphere filled with nautical enthusiasts\, offering you the chance to connect with like-minded individuals and showcase your innovative products. \nHow can SNAP EXHIBITIONS help me make everything perfect about my booth? \nWith our turnkey booth rental solutions at SNAP EXHIBITIONS\, we ensure that every aspect of your exhibition booth is tailored to your needs—from design to installation\, ensuring you stand out at the Annapolis Spring Sailboat Show. \nJoin us at the Annapolis Spring Sailboat Show 2026 booth rental for a rewarding experience and make the most out of your exhibition. For inquiries or to book\, contact our team today!
URL:https://ippe2026.com/event/annapolis-spring-sailboat-show-2026/
CATEGORIES:Boating,Hunting & Fishing,Sailing & Water Sports,Sports
END:VEVENT
BEGIN:VEVENT
DTSTART;TZID=UTC:20260425T090000
DTEND;TZID=UTC:20260426T235959
DTSTAMP:20260423T212945
CREATED:20251022T050344Z
LAST-MODIFIED:20251022T050344Z
UID:26014-1777107600-1777247999@ippe2026.com
SUMMARY:ROCK ‘N’ ROLL NASHVILLE 2026
DESCRIPTION:ROCK ‘N’ ROLL NASHVILLE 2026 booth rental — Ultimate Exhibitor Guide & Custom Booth Options\nAbout ROCK ‘N’ ROLL NASHVILLE 2026\nROCK ‘N’ ROLL NASHVILLE 2026 booth rental is an essential choice for exhibitors at this dynamic event. This thrilling celebration offers participants various options to join the biggest running party in the country\, featuring distances for everyone: Marathon\, Half Marathon\, and 10K. Exhibitors will benefit from increased visibility and networking opportunities by being present at this highly anticipated trade show. \n\nKey Details:\nDates: Dec 10–12\, 2026\nLocation: Nashville\, TN\nAddress: USA\nCountry: United States\n\nThe Sports industry will be showcased at this event\, making it a perfect platform to connect with enthusiasts and professionals alike. \nVenue & Location\nThe event will take place at Nashville\, TN\,  USA. The venue is easily accessible\, offering convenient logistics for exhibitors. Ensure that you plan your move-in accordingly to make the most out of your booth rental experience. \nContact us at [phone number] for inquiries. \nNashville TN: Our Services\nWe DESIGN\, PRODUCE\, INSTALL & DISMANTLE turnkey booth rentals in Nashville TN. Our offerings include concept and design\, modular frames\, branded SEG graphics\, reception/storage\, and TV mounts\, all with on-site installation and dismantling. \nCustom Booth Models\nWith Snap Exhibitions Custom Booth Models\, we offer a variety of popular footprints to suit your needs. The 10×10 booth is perfect for brand visibility\, while the 10×20 provides more space for interaction\, ideal for sports-related industries. A 20×20 booth is excellent for larger displays\, making it an impactful choice for major exhibitors in the sports sector. \nOur full-service exhibit support ensures that every aspect of your booth is covered\, leaving you to focus on engaging with attendees. To learn more\, contact our team. \nFAQ\n\nWhat is ROCK ‘N’ ROLL NASHVILLE 2026 booth rental? It is a tailored booth rental service for exhibitors at the event\, offering various customizable options.\nWhat are the dates for the event?The event runs from December 10 to December 12\, 2026.\nWhat booth sizes are recommended for the Sports category?We suggest 10×10 for small displays\, 10×20 for larger interaction areas\, and 20×20 for impactful presentations.\nWhy is an aluminum booth better than wood?Aluminum is lighter\, more durable\, and easier to transport than wood\, making it a superior choice for event booths.\nWhat can I expect at ROCK ‘N’ ROLL NASHVILLE 2026?Expect a vibrant atmosphere\, numerous networking opportunities\, and a chance to engage with sports enthusiasts.\nHow can SNAP EXHIBITIONS help make everything perfect about my booth?We provide a comprehensive service to ensure your booth is designed\, produced\, and installed seamlessly for the best exhibitor experience.\n\nIn conclusion\, ROCK ‘N’ ROLL NASHVILLE 2026 booth rental is your ultimate solution to stand out in this significant event. For customized booth solutions\, contact us today!
URL:https://ippe2026.com/event/rock-n-roll-nashville-2026/
CATEGORIES:Sports
END:VEVENT
BEGIN:VEVENT
DTSTART;TZID=UTC:20260425T090000
DTEND;TZID=UTC:20260426T235959
DTSTAMP:20260423T212945
CREATED:20251022T052330Z
LAST-MODIFIED:20251022T052330Z
UID:26073-1777107600-1777247999@ippe2026.com
SUMMARY:THE FRANCHISE EXPO - ORLANDO 2026
DESCRIPTION:THE FRANCHISE EXPO – ORLANDO 2026 booth rental — Premium Exhibitor Guide & Custom Booth Options\nAbout THE FRANCHISE EXPO – ORLANDO 2026\nTHE FRANCHISE EXPO – ORLANDO 2026 booth rental offers exhibitors a chance to connect with thousands of potential franchisees and business partners. Held at the Orange County Convention Center\, this event showcases the fastest-growing franchises and offers a plethora of business opportunities. Attendees will gain insights into marketing strategies and selling techniques crucial for expansion. With a diverse audience from sectors including Franchising\, Marketing & Selling\, Investors\, this expo is a must-attend for anyone looking to invest or partner in the franchise industry. \nKey Details:\nDate: September 24–26\, 2026\nLocation: Orange County Convention Center\, 9800 International Drive\, Orlando\, FL 32819-8199\, USA\nEvent Website: Visit the Franchise Expo Website \nVenue & Location\nThe Orange County Convention Center in Orlando\, USA\, is an ideal venue for the expo. It provides central access and ample space for exhibitors. While specific details about move-in logistics are not provided\, the facility is known for its accommodating atmosphere for large events. If you need assistance\, feel free to reach out using our provided contact information. \nOrlando FL: Our Services\nIn Orlando\, we DESIGN\, PRODUCE\, INSTALL & DISMANTLE turnkey booth rentals. Our services encompass everything from concept design and modular frames to branded SEG graphics and reception/storage areas equipped with TV mounts and on-site installation and dismantling. \nCustom Booth Models\nExplore our Snap Exhibitions Custom Booth Models designed to meet the diverse needs of exhibitors. We provide booths in various popular footprints: 10×10\, 10×20\, and 20×20\, perfect for showcasing your brand effectively. These sizes are well-suited for attendees in Franchising\, Marketing & Selling\, and Investor sectors. To learn more about our full-service exhibit support\, check out our services page. \nFAQ\n\nWhat is THE FRANCHISE EXPO – ORLANDO 2026 booth rental?\n    It’s an opportunity for exhibitors to rent booths at this leading franchise expo in Orlando\, connecting with potential investors and partners.\nWhat are the event hours/dates?\n    The event will be held from September 24 to 26\, 2026.\nWhat booth sizes do you recommend for Franchising sectors?\n    Booth sizes like 10×10 and 10×20 fit well for effective brand display in the Franchising sector.\nWhy is an aluminum booth better than wood?\n    Aluminium booths are lighter\, more durable\, and offer greater design flexibility compared to traditional wood booths.\nWhat unique features does Orlando have for exhibitors?\n    Orlando offers a vibrant business scene\, excellent accessibility\, and a wide range of hotel and leisure options.\nWhy should I attend THE FRANCHISE EXPO – ORLANDO 2026?\n    This expo provides a platform to explore multiple franchise opportunities amidst industry leaders.\nHow can SNAP EXHIBITIONS help me make everything perfect about my booth?\n    We offer comprehensive support for booth design\, branding\, installation\, and dismantling\, ensuring a seamless experience.\n\nReady to enhance your presence at THE FRANCHISE EXPO – ORLANDO 2026 booth rental? Let us help you create a memorable experience. Contact our team today!
URL:https://ippe2026.com/event/the-franchise-expo-orlando-2026/
CATEGORIES:Franchising,Investors,Marketing & Selling
END:VEVENT
END:VCALENDAR