BEGIN:VCALENDAR
VERSION:2.0
PRODID:-//IPPE 2026 Atlanta — Local Booth Builder &amp; Rentals - ECPv6.15.20//NONSGML v1.0//EN
CALSCALE:GREGORIAN
METHOD:PUBLISH
X-ORIGINAL-URL:https://ippe2026.com
X-WR-CALDESC:Events for IPPE 2026 Atlanta — Local Booth Builder &amp; Rentals
REFRESH-INTERVAL;VALUE=DURATION:PT1H
X-Robots-Tag:noindex
X-PUBLISHED-TTL:PT1H
BEGIN:VTIMEZONE
TZID:UTC
BEGIN:STANDARD
TZOFFSETFROM:+0000
TZOFFSETTO:+0000
TZNAME:UTC
DTSTART:20250101T000000
END:STANDARD
END:VTIMEZONE
BEGIN:VEVENT
DTSTART;TZID=UTC:20260502T090000
DTEND;TZID=UTC:20260503T235959
DTSTAMP:20260423T195002
CREATED:20251021T080319Z
LAST-MODIFIED:20251021T080319Z
UID:25709-1777712400-1777852799@ippe2026.com
SUMMARY:GUNS & KNIFE SHOW MIDDLETOWN 2026
DESCRIPTION:GUNS & KNIFE SHOW MIDDLETOWN 2026 Booth Rental — Ultimate Guide\nAbout GUNS & KNIFE SHOW MIDDLETOWN 2026\nWelcome to the GUNS & KNIFE SHOW MIDDLETOWN 2026\, a must-attend event for enthusiasts in the firearms and collectibles industry. This event not only showcases an impressive range of shooting rifles\, knives of various sizes\, and collectible firearms but also features hunting and fishing accessories\, militaria\, ammo\, carbines\, and much more. Visitors and exhibitors alike will gain valuable insights\, make critical connections\, and discover the latest trends in collectibles\, arms\, and ammunition. \n\nKey Details:\nDate: Mar 1-3\, 2026\, 9:00 AM – 5:00 PM\nVenue: County Fairgrounds Middletown – Orange County Fair\nAddress: 239 Wisner Ave\, Middletown\, NY 10940\, United States\nVisit Event Website\n\nIndustries & Audience: Guns & Knives – Collectibles\, Defense – Armament\, Hunting & Fishing\, Collectors – Hobby \nVenue & Location\nThe event will be hosted at the County Fairgrounds Middletown\, located at 239 Wisner Ave\, Middletown\, NY 10940\, United States. The logistics of the venue allow for smooth move-in and dock access\, ensuring a hassle-free setup for exhibitors. \nMiddletown NY: Our Services\nIn Middletown NY\, we DESIGN\, PRODUCE\, INSTALL & DISMANTLE turnkey booth rentals. We cover everything from concept and design to modular frames and branded SEG graphics. Our booths include reception and storage areas\, TV mounts\, and on-site installation and dismantling services\, ensuring you have a seamless experience at the show. \nCustom Booth Models\nPopular booth footprints such as 10×10\, 10×20\, and 20×20 are tailored for attendees in the firearms and collectibles sectors. These models provide an effective way to showcase your collection while allowing ample space for interaction with potential customers. For innovative designs\, check our Snap Exhibitions Custom Booth Models. \nWe also provide full-service exhibit support\, making sure all your needs are addressed for a flawless show experience. \nFor inquiries or to explore options\, feel free to contact our team. \nFAQ\nQ: What can I find at the GUNS & KNIFE SHOW MIDDLETOWN 2026 booth rental? \nA: Our booth rental showcases a wide range of firearms\, knives\, and collectibles tailored to engage attendees. \nQ: What are the event hours for GUNS & KNIFE SHOW MIDDLETOWN 2026? \nA: The event runs from Mar 1-3\, 2026\, from 9:00 AM to 5:00 PM each day. \nQ: What booth sizes do I recommend for firearms and collectibles? \nA: We recommend booth sizes like 10×10 or 10×20 to allow sufficient space to display your collection effectively. \nQ: Why is an aluminum booth better than wood? \nA: Aluminum booths are lighter and more durable than wood\, making them easier to transport and set up while providing a modern look. \nQ: What should I know about Middletown\, NY? \nA: Middletown is a vibrant city with rich history and culture\, making it an ideal location for our trade show. \nQ: How can SNAP EXHIBITIONS help me make everything perfect about my booth? \nA: We provide comprehensive booth design and support to ensure your presence at the show stands out impressively. \nIn conclusion\, the GUNS & KNIFE SHOW MIDDLETOWN 2026 booth rental is your gateway to an impactful presence at the show. Don’t hesitate to contact us for any inquiries and make your participation a remarkable experience!
URL:https://ippe2026.com/event/guns-knife-show-middletown-2026/
CATEGORIES:Collectors - Hobby,Defense - Armament,Guns & Knives - Collectibles,Hunting & Fishing
END:VEVENT
BEGIN:VEVENT
DTSTART;TZID=UTC:20260503T090000
DTEND;TZID=UTC:20260504T235959
DTSTAMP:20260423T195002
CREATED:20251022T044316Z
LAST-MODIFIED:20251022T044316Z
UID:25947-1777798800-1777939199@ippe2026.com
SUMMARY:THE MAKEUP SHOW - NYC 2026
DESCRIPTION:THE MAKEUP SHOW – NYC 2026 Booth Rental — Essential Guide\nAbout THE MAKEUP SHOW – NYC 2026\nVenue & Location\nNew York\, NY: Our Services\nCustom Booth Models\nFAQ\nTHE MAKEUP SHOW – NYC 2026\nTHE MAKEUP SHOW – NYC 2026 booth rental is your gateway to an inspiring two days in the beauty and personal care industry. Attendees can expect a wealth of educational opportunities\, seminars\, and demo stages showcasing the latest trends and techniques from sought-after makeup artists and beauty experts. Enhance your skills and elevate your professional journey! \nKey Details:Dates: Jan 25–26\, 2026Location: Metropolitan PavilionAddress: 125 West 18 TH Street\, New York\, NY 10011\, USAWeb: Visit the Event \nIndustries & Audience: Beauty & Personal Care\, Fashion – Clothing. \nVenue & Location\nThe venue for THE MAKEUP SHOW – NYC 2026 is the renowned Metropolitan Pavilion\, located at 125 West 18 TH Street in New York\, USA. With excellent logistics for exhibitors\, including central access and convenient move-in options\, it’s a prime location to showcase your brand. \nNew York\, NY: Our Services\nIn New York\, NY\, we DESIGN\, PRODUCE\, INSTALL & DISMANTLE turnkey booth rentals for events like THE MAKEUP SHOW. Our offerings encompass concept design\, modular frames\, branded SEG graphics\, reception/storage areas\, and on-site installation and dismantle (I&D) support. \nCustom Booth Models\nWe offer popular booth footprints such as 10×10\, 10×20\, and 20×20 that cater perfectly to attendees in the beauty and personal care sectors. Check out our Snap Exhibitions Custom Booth Models for inspiration. Our modular designs ensure your booth is impactful and efficient. \nWe provide full-service exhibit support including installation and dismantling\, allowing you to focus on connecting with your audience and making the most of your exhibiting experience. \nReady to create an unforgettable presence at THE MAKEUP SHOW? Contact our team today! \nFAQ\n\nWhat is THE MAKEUP SHOW – NYC 2026 booth rental?\nTHE MAKEUP SHOW – NYC 2026 booth rental provides exhibitors a customized solution to showcase their products and services effectively during the event.\nWhat are the event hours for THE MAKEUP SHOW – NYC 2026?\nThe event runs from January 25–26\, 2026. Exact times are usually 9:00 AM to 5:00 PM for both days.\nWhat booth sizes do you recommend for the Beauty & Personal Care sector?\nPopular sizes include 10×10\, 10×20\, and 20×20. Each size offers great visibility and space for interaction.\nWhy is an aluminum booth better than wood?\nAluminum booths are lightweight\, durable\, and can be easily customized\, leading to a seamless setup and breakdown process.\nWhat are the main attractions in New York during THE MAKEUP SHOW?\nNew York is a hub of creativity\, with plenty of attractions including world-class dining\, shopping\, and cultural experiences to explore while at the event.\nHow can SNAP EXHIBITIONS help me make everything perfect about my booth?\nWe specialize in turnkey solutions\, ensuring that every aspect of your booth is handled seamlessly from design to installation.\nWhat makes THE MAKEUP SHOW a must-attend event?\nThe show brings industry professionals together\, offering unmatched learning opportunities and networking in the beauty sector.\n\nExperience the best with THE MAKEUP SHOW – NYC 2026 booth rental. Join us and make your exhibit stand out! Don’t hesitate to contact our team to learn more about our services.
URL:https://ippe2026.com/event/the-makeup-show-nyc-2026/
CATEGORIES:Beauty & Personal Care,Fashion - Clothing
END:VEVENT
END:VCALENDAR