BEGIN:VCALENDAR
VERSION:2.0
PRODID:-//IPPE 2026 Atlanta — Local Booth Builder &amp; Rentals - ECPv6.15.20//NONSGML v1.0//EN
CALSCALE:GREGORIAN
METHOD:PUBLISH
X-ORIGINAL-URL:https://ippe2026.com
X-WR-CALDESC:Events for IPPE 2026 Atlanta — Local Booth Builder &amp; Rentals
REFRESH-INTERVAL;VALUE=DURATION:PT1H
X-Robots-Tag:noindex
X-PUBLISHED-TTL:PT1H
BEGIN:VTIMEZONE
TZID:UTC
BEGIN:STANDARD
TZOFFSETFROM:+0000
TZOFFSETTO:+0000
TZNAME:UTC
DTSTART:20250101T000000
END:STANDARD
END:VTIMEZONE
BEGIN:VEVENT
DTSTART;TZID=UTC:20260504T090000
DTEND;TZID=UTC:20260507T235959
DTSTAMP:20260423T212540
CREATED:20251022T051611Z
LAST-MODIFIED:20251022T051611Z
UID:26052-1777885200-1778198399@ippe2026.com
SUMMARY:OTC (OFFSHORE TECHNOLOGY CONFERENCE) 2026
DESCRIPTION:OTC (OFFSHORE TECHNOLOGY CONFERENCE) 2026 — Exhibitor Guide & Ultimate Options\nShow Overview\nOTC (OFFSHORE TECHNOLOGY CONFERENCE) 2026 booth rental is a great way to engage with key stakeholders in the Oil & Gas\, Energy Production & Transportation\, and Environmental Protection industries. Whether you are an existing company or a new entrant\, this event is designed to showcase innovations and facilitate partnerships in the burgeoning offshore technology sector. \nThe Offshore Technology Conference\, taking place from Jan 31–Feb 3\, 2026\, at NRG Park\, Houston\, Texas 77054\, USA\, is the world’s foremost event for the development of offshore resources\, including drilling\, exploration\, and production techniques. It also covers vital aspects of environmental protection associated with these sectors. \n\nKey Details:\nDate: Jan 31–Feb 3\, 2026\nLocation: NRG Park\, One NRG Park\, Houston\, Texas\, USA\nIndustry: Oil & Gas\, Energy Production & Transportation\, Spatial Information Systems\, Environmental Protection\n\nVenue & Location\nThe OTC 2026 will be hosted at NRG Park\, Houston\, Texas\, USA. This venue provides robust facilities suited for large-scale exhibitions and conferences. Attendees will benefit from central access and ample space for move-in and logistics\, making it an ideal location for both exhibitors and visitors. \nFor more information\, feel free to call the venue or check local listings. \nHouston\, Texas: Our Services\nIn Houston\, Texas\, we DESIGN\, PRODUCE\, INSTALL & DISMANTLE turnkey booth rentals. Our services include craft conceptual designs\, modular frames\, branded SEG graphics\, storage solutions\, reception setups\, and on-site installation and dismantle (I&D). \nCustom Booth Models\nExplore our diverse range of booth sizes at Snap Exhibitions Custom Booth Models. Popular footprints include: \n\n10×10: Perfect for startups and small firms wanting visibility with lower costs.\n10×20: Ideal for established companies looking to make a statement without occupying too much space.\n20×20: Best for companies targeting extensive engagement and visibility within their sectors.\n\nAll booths are designed to cater effectively to the needs of exhibitors in the Oil & Gas\, Energy Production\, and Environmental Protection sectors. For full-service exhibit support\, visit our services page. \nFAQ\n\nWhat is OTC (OFFSHORE TECHNOLOGY CONFERENCE) 2026 booth rental?\nOTC (OFFSHORE TECHNOLOGY CONFERENCE) 2026 booth rental provides an excellent opportunity for companies to showcase their innovations and network.\nWhen is the OTC event?\nThe event takes place from Jan 31–Feb 3\, 2026.\nWhat booth sizes do you recommend for the Oil & Gas sector?\nWe recommend a 10×20 for medium visibility\, or a 20×20 for larger\, more interactive displays.\nWhy is an aluminum booth better than wood?\nAluminum is lighter\, stronger\, and more durable than wood\, making it ideal for repetitive setups and takedowns.\nWhat companies will be attending OTC?\nCompanies across the Oil & Gas\, Energy Production\, and Environmental Protection sectors will be mingling and networking.\nHow can SNAP EXHIBITIONS help make everything perfect about their booth?\nWe provide comprehensive support to design\, construct\, and manage your exhibitor needs seamlessly.\n\nFor your next successful presence at OTC (OFFSHORE TECHNOLOGY CONFERENCE) 2026 with a booth rental\, contact our team today!
URL:https://ippe2026.com/event/otc-offshore-technology-conference-2026/
CATEGORIES:Energy Production & Transportation,Environmental Protection,Oil & Gas,Spatial Information Systems
END:VEVENT
BEGIN:VEVENT
DTSTART;TZID=UTC:20260504T090000
DTEND;TZID=UTC:20260507T235959
DTSTAMP:20260423T212540
CREATED:20251022T175150Z
LAST-MODIFIED:20251022T175150Z
UID:26168-1777885200-1778198399@ippe2026.com
SUMMARY:WATS ORLANDO (WORLD AVIATION TRAINING CONFERENCE AND TRADESHOW) 2026
DESCRIPTION:WATS ORLANDO (WORLD AVIATION TRAINING CONFERENCE AND TRADESHOW) 2026 — Exhibitor Guide & Premium Options\nAbout WATS ORLANDO (WORLD AVIATION TRAINING CONFERENCE AND TRADESHOW) 2026\nWATS ORLANDO (WORLD AVIATION TRAINING CONFERENCE AND TRADESHOW) 2026 is the premier event for showcasing innovations in the Aeronautics and Education sectors. This trade show offers invaluable insights for exhibitors and visitors alike. Attendees can expect to gain knowledge about the latest trends and technologies that are shaping the aviation training landscape. \nKey Details: May 31 – June 2\, 2026\, 9:00 AM – 5:00 PM\, Rosen Shingle Creek Resort\, 9939 Universal Blvd.\, Orlando\, FL 32819\, United States. \nIndustries & Audience: Aeronautics – Space\, Education & Training. \nVenue & Location\nThe event will be held at the Rosen Shingle Creek Resort\, located at 9939 Universal Blvd.\, Orlando\, FL 32819\, United States. The venue offers excellent logistics\, ensuring smooth move-in and dock access for exhibitors. Attendees can expect easy central access for all their needs. \nOrlando FL: Our Services\nAt Snap Exhibitions\, we DESIGN\, PRODUCE\, INSTALL & DISMANTLE turnkey booth rentals in Orlando FL. Our comprehensive services cover concept/design\, modular frames\, branded SEG graphics\, reception/storage\, TV mounts\, and on-site installation and dismantling (I&D). We ensure that your booth is not just functional but also visually appealing. \nCustom Booth Models\nWe offer a variety of popular booth footprints to accommodate different needs: \n\n10×10 booths are ideal for first-time exhibitors looking to make a strong impression.\n10×20 booths provide extra space for showcasing products and engaging with visitors.\n20×20 booths are perfect for larger companies needing to highlight multiple offerings.\n\nExplore our Snap Exhibitions Custom Booth Models for more inspiration. We also offer full-service exhibit support to meet all your needs. For any inquiries\, contact our team today! \nFAQ\nQ1: What is WATS ORLANDO (WORLD AVIATION TRAINING CONFERENCE AND TRADESHOW) 2026?A premier trade show focused on Aeronautics and Education. \nQ2: When will the event take place?May 31 – June 2\, 2026\, from 9:00 AM to 5:00 PM. \nQ3: What booth sizes are recommended for Aeronautics sectors?A 10×10 or 10×20 booth is ideal for showcasing key offerings. \nQ4: Why is an aluminum booth better than wood?Aluminum is lighter\, more durable\, and offers better design flexibility. \nQ5: What should I know about Orlando for the event?Orlando is an accessible city with excellent amenities for trade show attendees. \nQ6: How can Snap Exhibitions help me make everything perfect about my booth?We provide turnkey booth rentals tailored to your needs\, ensuring a seamless experience. \nQ7: Can I visit without an exhibit?Yes\, visitors are welcome to learn about the latest in aviation training. \nWATS ORLANDO (WORLD AVIATION TRAINING CONFERENCE AND TRADESHOW) 2026 is your gateway to showcase your brand among the best in the business. For premium booth rentals\, contact our team today!
URL:https://ippe2026.com/event/wats-orlando-world-aviation-training-conference-and-tradeshow-2026/
CATEGORIES:Aeronautics - Space,Education & Training
END:VEVENT
BEGIN:VEVENT
DTSTART;TZID=UTC:20260505T090000
DTEND;TZID=UTC:20260507T235959
DTSTAMP:20260423T212540
CREATED:20251021T164639Z
LAST-MODIFIED:20251021T164639Z
UID:25763-1777971600-1778198399@ippe2026.com
SUMMARY:CONNECTIONS 2026
DESCRIPTION:CONNECTIONS 2026 booth rental — Exhibitor Guide & Custom Booth Options\nAbout CONNECTIONS 2026\nCONNECTIONS 2026 booth rental is the premier solution for exhibitors at this influential International Executive Conference for Digital Home Technologies. Designed for a diverse range of industries from Household Appliances to Telecommunications\, this event showcases the shift of connected home technologies into mainstream markets\, bringing together significant audiences eager to explore opportunities. \nThe event runs from Mar 1–3\, 2026\, at Hyatt Regency\, 5101 Great America Pkwy\, Santa Clara\, CA 95054\, United States. For more details\, visit the official site. \n\nKey Details:\nDates: Mar 1–3\, 2026\nLocation: Hyatt Regency\, Santa Clara\nAddress: 5101 Great America Pkwy\, Santa Clara\, CA 95054\nCountry: United States\n\nIndustries & Audience: This event focuses on sectors such as Domestic Appliance Technology\, Consumer Electronics\, Sound & Image Technologies\, and more. \nVenue & Location\nHyatt Regency\, located in the heart of Santa Clara\, provides a flexible space ideal for exhibitions. With logistical support and central accessibility\, the venue ensures a smooth experience for all participants. \nSanta Clara CA: Our Services\nWe DESIGN\, PRODUCE\, INSTALL & DISMANTLE turnkey booth rentals in this city. Our comprehensive service includes innovative concept/design\, modular frames\, branded SEG graphics\, and on-site installation. We ensure your booth stands out while we handle the logistics. \nCustom Booth Models\nExplore our popular footprints\, including 10×10\, 10×20\, and 20×20 sizes. These setups cater perfectly to the diverse needs of attendees in the tech and home appliances sector. Check out our Snap Exhibitions Custom Booth Models for inspiration and options. \nFor those seeking comprehensive support\, our full-service exhibit support covers everything from initial design to on-the-ground execution. If you’re ready to make your presence felt at CONNECTIONS 2026\, contact our team to streamline your booth experience. \nFAQ\n\nWhat is CONNECTIONS 2026 booth rental? – CONNECTIONS 2026 booth rental offers bespoke solutions for exhibitors aiming to showcase innovative technologies.\nWhat are the event hours for CONNECTIONS 2026? – The event takes place from Mar 1-3\, 2026\, running daily from 9 AM to 5 PM.\nWhat booth sizes do you recommend for technology sectors? – We suggest 10×20 as a balanced size for effective engagement in tech sectors.\nWhy is an aluminum booth better than wood? – Aluminum offers durability\, lighter weight\, and a modern aesthetic compared to traditional wood booths.\nCan you share more about Santa Clara as an event location? – Santa Clara is a tech hub\, making it ideal for technology-focused events like CONNECTIONS 2026.\nWhat is the significance of CONNECTIONS 2026? – This conference highlights the growing market of connected home technologies\, drawing key stakeholders in the industry.\nHow can SNAP EXHIBITIONS help ensure my booth is perfect? – We manage all aspects from design through dismantling\, ensuring a seamless experience and impactful presentation at CONNECTIONS 2026.\n\nIn conclusion\, CONNECTIONS 2026 booth rental presents a unique opportunity for exhibitors to elevate their presence at a leading event. We invite you to contact us and make the most of your exhibition experience!
URL:https://ippe2026.com/event/connections-2026/
CATEGORIES:Computers Networks,Consumers Electronics,Decision Helping Tools & Management Services,Home Show,Household Appliances - Domestic Appliance Technology,Internet & Intranet,Multimedia Technologies,Sound & Image Technologies,Telecommunications
END:VEVENT
BEGIN:VEVENT
DTSTART;TZID=UTC:20260505T090000
DTEND;TZID=UTC:20260507T235959
DTSTAMP:20260423T212540
CREATED:20251022T042841Z
LAST-MODIFIED:20251022T042841Z
UID:25900-1777971600-1778198399@ippe2026.com
SUMMARY:DISPLAY WEEK - SID 2026
DESCRIPTION:DISPLAY WEEK – SID 2026 booth rental — Exhibitor Guide & Essential Solutions\nAbout DISPLAY WEEK – SID 2026\nDISPLAY WEEK – SID 2026 booth rental is your gateway to showcasing innovative technologies in Los Angeles. At this significant event\, exhibitors from various sectors such as Sound & Image Technologies\, Optoelectronics\, Electronic Design & Components\, Consumers Electronics will gain exposure\, networking opportunities\, and insights into market trends. Expect to experience the latest advancements in display technology\, including OLED displays\, Advanced LCDs\, HD & 4K TV technologies\, Digital signage\, e-Paper\, and Flexible displays.\n \nKey Details: May 1–4\, 2026\, Los Angeles\, CA\, United States. \nVenue & Location\nDISPLAY WEEK – SID 2026 will take place in the vibrant city of Los Angeles\, CA. The venue offers convenient logistics for exhibitors\, including ample move-in windows and dock access for easy setup. For inquiries\, feel free to contact us. \nLos Angeles\, CA: Our Services\nWe DESIGN\, PRODUCE\, INSTALL & DISMANTLE turnkey booth rentals in Los Angeles\, CA. Our services encompass concept and design development\, modular frames\, branded SEG graphics\, and reception/storage options\, ensuring a seamless experience for your exhibition. \nCustom Booth Models\nExplore our Snap Exhibitions Custom Booth Models. We offer various footprints like 10×10\, 10×20\, and 20×20. These options are designed to meet the needs of attendees in the listed categories\, providing functional space to engage with visitors effectively. Our full-service exhibit support ensures that every detail is accounted for in your exhibit design. \nFAQ\nQ1:** What are the DISPLAY WEEK – SID 2026 booth rental options?**\nA: We offer various customizable booth rentals tailored to meet your specific needs at DISPLAY WEEK – SID 2026. \nQ2:** When is the DISPLAY WEEK – SID 2026?**\nA: The event runs from May 1 to May 4\, 2026. \nQ3:** What booth sizes do you recommend for exhibitors in Sound & Image Technologies?**\nA: We recommend booth sizes such as 10×20 or 20×20 for optimal visibility and space to showcase multiple products. \nQ4:** Why is an aluminum booth better than wood?**\nA: Aluminum booths are lighter\, more durable\, and can be reconfigured easily\, ensuring flexibility for different events. \nQ5:** What can I expect at DISPLAY WEEK – SID 2026 in Los Angeles?**\nA: Expect to see cutting-edge technologies\, networking opportunities\, and various exhibitors showcasing their innovations. \nQ6:** How can SNAP EXHIBITIONS help me make everything perfect about my booth?**\nA: We ensure a hassle-free experience by managing everything from design to installation and dismantling\, focusing on your booth’s success. \nIn conclusion\, DISPLAY WEEK – SID 2026 booth rental is your ticket to success in Los Angeles. Don’t miss out on this opportunity; contact our team today to secure your booth and make a lasting impression!
URL:https://ippe2026.com/event/display-week-sid-2026/
CATEGORIES:Consumers Electronics,Electronic Design & Components,Optoelectronics,Sound & Image Technologies
END:VEVENT
BEGIN:VEVENT
DTSTART;TZID=UTC:20260505T090000
DTEND;TZID=UTC:20260507T235959
DTSTAMP:20260423T212540
CREATED:20251022T043223Z
LAST-MODIFIED:20251022T043223Z
UID:25912-1777971600-1778198399@ippe2026.com
SUMMARY:HD EXPO + CONFERENCE 2026
DESCRIPTION:HD EXPO + CONFERENCE 2026 booth rental — Ultimate Guide & Custom Booth Options\nAbout HD EXPO + CONFERENCE 2026\nVenue & Location\nLas Vegas NV: Our Services\nCustom Booth Models\nFAQ\nHD EXPO + CONFERENCE 2026\nHD EXPO + CONFERENCE 2026 booth rental is your key to standing out at one of the most revered events in the hospitality design sector. This event promises to not only showcase innovative designs but also foster lasting relationships and drive product innovation among industry professionals. Attendees can look forward to a vibrant atmosphere brimming with inspiration and cutting-edge products. \nKey Details:June 27–29\, 2026\, 9:00 AM–5:00 PMMandalay Bay Convention Center3950 Las Vegas Blvd. SouthLas Vegas\, Nevada 89119\, USAOfficial Event Website \nIndustries & Audience: Catering & Hospitality Industries\, Retail & Shop Fitting Equipment & Service\, Architecture\, Decoration\, Home & Office Design\, Furniture\, Lighting \nVenue & Location\nThe event will be held at the Mandalay Bay Convention Center\, located at 3950 Las Vegas Blvd. South\, Las Vegas\, Nevada\, USA. The venue is well-equipped to handle large exhibitions with multiple move-in windows and dock access for convenient setup. For any inquiries\, you can reach out through various communications\, ensuring you’re well prepared for your time here. \nLas Vegas NV: Our Services\nIn Las Vegas NV\, we DESIGN\, PRODUCE\, INSTALL & DISMANTLE turnkey booth rentals. Our services encompass every aspect of your exhibition needs: from concept design\, modular frames\, and branded SEG graphics to providing reception/storage areas and even TV mounts—all tailored specifically for the needs of our clients. \nCustom Booth Models\nOur Snap Exhibitions Custom Booth Models are designed to fit a variety of event sizes and requirements. Popular footprints include 10×10\, 10×20\, and 20×20\, which cater perfectly to attendees in the hospitality and related sectors. Each model is crafted to optimize engagement and showcase your brand effectively. \nWith our full-service exhibit support\, available at full-service exhibit support\, we ensure all elements of your booth function seamlessly. For tailored support\, contact our team to make your next booth a success! \nFAQ\nWhat is HD EXPO + CONFERENCE 2026 booth rental?\nHD EXPO + CONFERENCE 2026 booth rental offers exhibitors customizable spaces to showcase their innovations in the hospitality design industry\, helping them create memorable experiences for attendees. \nWhat are the event hours and dates?\nThe event takes place from June 27 to June 29\, 2026\, running daily from 9:00 AM to 5:00 PM. \nWhat booth sizes are recommended for the Hospitality sectors?\nBooths in sizes 10×10 and 10×20 are commonly recommended for businesses in the catering and hospitality industries as they provide adequate space for engaging and showcasing products. \nWhy is an aluminum booth better than wood?\nAluminum structures are lighter\, more durable\, and easier to transport\, making them a preferred choice for exhibitors seeking longevity and ease of setup. \nWhat can I expect in Las Vegas during the event?\nLas Vegas offers an exciting atmosphere with numerous networking opportunities\, luxury accommodations\, and vibrant nightlife\, complementing the professional appeal of HD EXPO + CONFERENCE 2026. \nHow can SNAP EXHIBITIONS help make everything perfect about my booth?\nWe provide comprehensive support throughout the entire process\, ensuring your booth is designed\, installed\, and ready for a successful exhibition\, all tailored to your specific needs. \nAs you prepare for the HD EXPO + CONFERENCE 2026 booth rental\, let us help you create a standout presence by reaching out for further assistance. Visit contact our team for more information!
URL:https://ippe2026.com/event/hd-expo-conference-2026/
CATEGORIES:Architecture,Catering & Hospitality Industries,Decoration,Furniture,Home & Office Design,Lighting,Retail & Shop Fitting Equipment & Service
END:VEVENT
BEGIN:VEVENT
DTSTART;TZID=UTC:20260505T090000
DTEND;TZID=UTC:20260507T235959
DTSTAMP:20260423T212540
CREATED:20251022T051236Z
LAST-MODIFIED:20251022T051236Z
UID:26041-1777971600-1778198399@ippe2026.com
SUMMARY:NBAA MAINTENANCE CONFERENCE 2026
DESCRIPTION:NBAA MAINTENANCE CONFERENCE 2026 booth rental — Ultimate Guide\n#show\n#venue\n#city-services\n#booth-models\n#faq\nNBAA MAINTENANCE CONFERENCE 2026: Overview\nNBAA MAINTENANCE CONFERENCE 2026 booth rental is your gateway to engaging with the best in the business aircraft maintenance sector. This annual event caters to professionals from technicians to directors of maintenance\, offering vital education and unmatched networking opportunities. Participants will gain insights into the latest industry trends\, technologies\, and best practices. \nThe conference runs from Jan 27–29\, 2026\, 9:00 AM–5:00 PM\, in New Orleans\, LA\, USA. This is an excellent opportunity to connect with other industry experts as well as vendors who provide essential services. \nKey Details: \n\nDate: January 27–29\, 2026\nLocation: New Orleans\, LA\nAddress: USA\n\nIndustries & Audience: Aeronautics – Space\, Quality & Maintenance\, Security – Risk Management\, Subcontracting\, Suppliers & Partners. \nVenue & Location\nThe NBAA MAINTENANCE CONFERENCE 2026 will take place at the heart of New Orleans\, LA\, USA. Logistics such as move-in windows and dock access will be facilitated to ensure smooth operations for exhibitors and attendees alike. \nIf you have any inquiries\, feel free to call us at the contact number provided. Central access to key facilities will enhance your experience during this event. \nNBAA MAINTENANCE CONFERENCE 2026: Our Services\nIn New Orleans\, LA\, we DESIGN\, PRODUCE\, INSTALL & DISMANTLE turnkey booth rentals. Our services encompass concept and design\, modular frames\, branded SEG graphics\, and on-site installation and dismantling (I&D). We ensure your booth stands out and meets all your exhibition needs. \nPopular booth models for NBAA MAINTENANCE CONFERENCE 2026\nWe offer a range of popular booth sizes tailored to your needs. Our options include: \n\n10×10 booths: Ideal for smaller displays\, providing a compact yet effective representation.\n10×20 booths: These booths offer more space for showcasing products and networking.\n20×20 booths: Perfect for larger companies aiming for maximum visibility.\n\nLearn more about our Snap Exhibitions Custom Booth Models and our full-service exhibit support to elevate your exhibition game. \nIf you’re interested in our services\, don’t hesitate to contact our team. \nFAQ\n\nWhat is the focus of the NBAA MAINTENANCE CONFERENCE 2026?\nThe NBAA MAINTENANCE CONFERENCE 2026 booth rental focuses on the education and networking of business aircraft maintenance professionals.\nWhat are the dates and hours for the event?\nThe event is scheduled from January 27 to 29\, 2026\, running daily from 9:00 AM to 5:00 PM.\nWhat booth sizes do you recommend for the aeronautics sector?\nFor the aeronautics sector\, we recommend 10×20 booths for effective engagement and visibility.\nWhy is an aluminum booth better than wood?\nAluminum booths are lighter\, more durable\, and easier to transport compared to traditional wood booths.\nWhat should I know about New Orleans as a venue?\nNew Orleans offers a vibrant atmosphere with rich culture and excellent facilities for trade shows.\nWill there be networking opportunities at the NBAA MAINTENANCE CONFERENCE 2026?\nYes\, the conference is designed to facilitate networking among industry professionals.\nHow can SNAP EXHIBITIONS help make my booth perfect?\nWe provide tailored solutions from design to execution\, ensuring your booth meets all your requirements efficiently.\n\nDon’t miss the chance to elevate your presence at the NBAA MAINTENANCE CONFERENCE 2026 booth rental. For inquiries and booth setup\, contact us today!
URL:https://ippe2026.com/event/nbaa-maintenance-conference-2026/
CATEGORIES:Aeronautics - Space,Quality & Maintenance,Security - Risk Management,Subcontracting,Suppliers & Partners
END:VEVENT
END:VCALENDAR