BEGIN:VCALENDAR
VERSION:2.0
PRODID:-//IPPE 2026 Atlanta — Local Booth Builder &amp; Rentals - ECPv6.15.20//NONSGML v1.0//EN
CALSCALE:GREGORIAN
METHOD:PUBLISH
X-ORIGINAL-URL:https://ippe2026.com
X-WR-CALDESC:Events for IPPE 2026 Atlanta — Local Booth Builder &amp; Rentals
REFRESH-INTERVAL;VALUE=DURATION:PT1H
X-Robots-Tag:noindex
X-PUBLISHED-TTL:PT1H
BEGIN:VTIMEZONE
TZID:UTC
BEGIN:STANDARD
TZOFFSETFROM:+0000
TZOFFSETTO:+0000
TZNAME:UTC
DTSTART:20250101T000000
END:STANDARD
END:VTIMEZONE
BEGIN:VEVENT
DTSTART;TZID=UTC:20260518T090000
DTEND;TZID=UTC:20260521T235959
DTSTAMP:20260423T212713
CREATED:20251021T164153Z
LAST-MODIFIED:20251021T164153Z
UID:25753-1779094800-1779407999@ippe2026.com
SUMMARY:WOW - WORLD OF WIPES 2026
DESCRIPTION:WOW – WORLD OF WIPES 2026 booth rental — Premium Solutions\nAbout WOW – WORLD OF WIPES 2026\nVenue & Location\nIndianapolis IN: Our Services\nCustom Booth Models\nFAQ\nWOW – WORLD OF WIPES 2026 — Exhibitor Guide & Custom Booth Options\nWOW – WORLD OF WIPES 2026 booth rental offers an exceptional opportunity for brands looking to make a significant impact in the wipes industry. This premier conference\, targeted at Beauty & Personal Care\, Paper Industry\, Consumer Goods\, Advanced Materials\, connects you with industry leaders and advances your brand’s visibility. Join us to network and learn about the latest trends including innovative raw materials\, consumer insights\, and packaging solutions. \nKey Details: Dates: Sep 12–14\, 9:00 AM–5:00 PM Location: Hyatt Regency Indianapolis\, One South Capitol Avenue\, Indianapolis\, IN 46204\, USA. For more information\, visit the official event website. \nVenue & Location\nThe WOW – WORLD OF WIPES 2026 will be hosted at the Hyatt Regency Indianapolis\, located conveniently at One South Capitol Avenue\, Indianapolis\, IN 46204\, USA. This venue provides straightforward logistics for exhibitors\, including accessible move-in windows and dock access. While no specific contact phone number is available\, the central access ensures ease of logistics during the event. \nIndianapolis IN: Our Services\nAt Snap Exhibitions\, we DESIGN\, PRODUCE\, INSTALL & DISMANTLE turnkey booth rentals in Indianapolis IN. Our comprehensive service ensures your presence at the WOW – WORLD OF WIPES 2026 is seamlessly executed. We offer concept and design services\, modular frames\, branded SEG graphics\, along with reception and storage solutions. On-site installation and dismantling are also part of our commitment to making your exhibit experience stress-free. \nCustom Booth Models\nOur offerings include various popular booth footprints that cater perfectly to the Beauty & Personal Care sectors. Our Snap Exhibitions Custom Booth Models range from: \n\n10×10: Ideal for brands needing a compact\, high-impact layout.\n10×20: Offers more display area\, perfect for showcasing products in detail.\n20×20: Designed for larger brands wanting significant visibility with innovative designs.\n\nThese models provide essential space for engagement and networking to maximize the WOW experience. \nFor further support\, check out our full-service exhibit support for comprehensive assistance in planning your booth. \nFAQ\n\nWhat is WOW – WORLD OF WIPES 2026 booth rental?WOW – WORLD OF WIPES 2026 booth rental refers to the turnkey solutions designed to enhance your exhibition presence during the event.\nWhat are the event hours and dates?The event takes place from Sep 12–14\, 9:00 AM–5:00 PM.\nWhat booth sizes are recommended for the Beauty & Personal Care sectors?Recommended sizes include 10×10 for personal brands and 20×20 for larger showcases.\nWhy is an aluminum booth better than wood?Aluminum booths are lighter\, more durable\, and offer modern aesthetics compared to traditional wood structures.\nWhat services does Snap Exhibitions provide in Indianapolis?We provide complete design\, production\, and installation services for your booth rental needs.\nHow can Snap Exhibitions help me make everything perfect for my booth?We ensure a comprehensive approach\, from design to disassembly\, ensuring a flawless execution and outstanding results.\nWhat is the location and significance of WOW – WORLD OF WIPES?WOW is held in Indianapolis\, IN\, known for its vibrant industry scene\, making it the perfect backdrop for networking and learning.\n\nTo elevate your display at WOW – WORLD OF WIPES 2026 booth rental\, we invite you to contact our team and ensure your exhibition is a success!
URL:https://ippe2026.com/event/wow-world-of-wipes-2026/
CATEGORIES:Advanced Materials,Beauty & Personal Care,Consumer Goods,Paper Industry
END:VEVENT
BEGIN:VEVENT
DTSTART;TZID=UTC:20260519T090000
DTEND;TZID=UTC:20260521T235959
DTSTAMP:20260423T212713
CREATED:20251021T074031Z
LAST-MODIFIED:20251021T074031Z
UID:25641-1779181200-1779407999@ippe2026.com
SUMMARY:WORLD ORPHAN DRUG CONGRESS - USA 2026
DESCRIPTION:WORLD ORPHAN DRUG CONGRESS – USA 2026 Booth Rental — Ultimate Experience\nAbout WORLD ORPHAN DRUG CONGRESS – USA 2026\nVenue & Location\nBoston MA: Our Services\nCustom Booth Models\nFAQ\nAbout WORLD ORPHAN DRUG CONGRESS – USA 2026\nWORLD ORPHAN DRUG CONGRESS – USA 2026 booth rental is your gateway to connect with key stakeholders in the orphan drug industry. This leading biopharma conference features engaging discussions and is designed for enhancing the development of orphan drugs\, thus improving access to life-saving therapies. Attendees will gain invaluable insights\, networking opportunities\, and collaborative solutions aimed at advancing the sector. \nKey Details: March 20–22\, 2026\, 9:00 AM–5:00 PM\, Boston Convention & Exhibition Center\, 415 Summer Street\, Boston\, MA 02210\, United States. Visit Event Website for more information. \nIndustries & Audience: The event focuses on Pharmaceuticals & Cosmetology\, Health Professionals\, Sciences for Engineers – Research & Development. \nVenue & Location\nThe WORLD ORPHAN DRUG CONGRESS – USA 2026 will take place at the Boston Convention & Exhibition Center\, located at 415 Summer Street\, Boston\, MA 02210\, United States. Facilitating the event are efficient logistics\, ensuring smooth move-in and access to dock facilities. For questions\, you can reach us at +1 (212) 379-6320. \nBoston MA: Our Services\nIn Boston\, we DESIGN\, PRODUCE\, INSTALL & DISMANTLE turnkey booth rentals. Our comprehensive services cover concept and design\, modular frames\, branded SEG graphics\, reception/storage solutions\, as well as TV mounts\, ensuring your booth stands out. \nCustom Booth Models\nExplore our Snap Exhibitions Custom Booth Models. Our popular booth footprints include: \n\n10×10 booths: Ideal for startups and solo exhibitors wishing to maximize impact in a smaller space.\n10×20 booths: Perfect for brands looking to showcase more products or interactive elements effectively.\n20×20 booths: Suited for larger exhibits and organizations seeking a commanding presence to attract serious attendees.\n\nThese configurations are tailored for the Pharmaceuticals & Cosmetology\, Health Professionals\, Sciences for Engineers – Research & Development sectors. \nWe also offer full-service exhibit support to meet all your needs\, from logistics to production. For assistance\, don’t hesitate to contact our team. \nFAQ\nWhat is WORLD ORPHAN DRUG CONGRESS – USA 2026 booth rental?\nIt’s an opportunity to enhance your presence at the WORLD ORPHAN DRUG CONGRESS – USA 2026\, allowing for impactful engagement and networking. \nWhat are the event hours for WORLD ORPHAN DRUG CONGRESS – USA 2026?\nThe event will run from March 20–22\, 2026\, from 9:00 AM to 5:00 PM. \nWhat booth sizes do you recommend for Pharmaceuticals & Cosmetology sector?\nWe recommend 10×20 and 20×20 booth sizes for effective product showcasing and networking. \nWhy is aluminum a better choice for booths than wood?\nAluminum is lighter\, more durable\, and provides easier assembly compared to wood\, making it an optimal choice for trade show setups. \nWhat services does Snap Exhibitions offer in Boston?\nWe offer complete booth rental solutions\, including design\, production\, installation\, and dismantling\, tailored for your event needs. \nHow can I make my booth stand out at WORLD ORPHAN DRUG CONGRESS – USA 2026?\nUtilize eye-catching graphics\, interactive displays\, and branded SEG elements to draw in attendees and engage effectively. \nHow SNAP EXHIBITIONS can help you make everything perfect about your booth?\nOur turnkey solutions ensure that from design to execution\, your booth will resonate with the audience while fulfilling all event requirements. \nFor an unparalleled experience at the WORLD ORPHAN DRUG CONGRESS – USA 2026 booth rental\, reach out to us at Snap Exhibitions today!
URL:https://ippe2026.com/event/world-orphan-drug-congress-usa-2026/
CATEGORIES:Health Professionals,Pharmaceuticals & Cosmetology,Sciences for Engineers - Research & Development
END:VEVENT
BEGIN:VEVENT
DTSTART;TZID=UTC:20260519T090000
DTEND;TZID=UTC:20260521T235959
DTSTAMP:20260423T212713
CREATED:20251021T181059Z
LAST-MODIFIED:20251021T181059Z
UID:25865-1779181200-1779407999@ippe2026.com
SUMMARY:SWEETS & SNACKS EXPO 2026
DESCRIPTION:Sweets & Snacks Expo 2026 booth rental — Essential Exhibitor Guide & Custom Booth Options\nAbout Sweets & Snacks Expo\nVenue & Location\nLas Vegas NV: Our Services\nCustom Booth Models\nFAQ\nAbout Sweets & Snacks Expo\nSweets & Snacks Expo 2026 booth rental offers exhibitors the chance to showcase their products seamlessly at this premier event\, uniquely blending the sweetness of treats such as chocolate\, candy\, and cookies with savory options like chips\, popcorn\, and meat snacks. This expo is a must-attend for those in the Catering & Hospitality Industries\, Food Processing Industries who seek extensive exposure and connections. \nKey Details:\nDate: Jun 22–24\, 2026 (9:00 AM–5:00 PM)\nLocation: Las Vegas Convention Center\, 3150 Paradise Road\, Las Vegas\, NV 89109\, United States \nAttendees will gain valuable insights into emerging trends and discover innovative products while creating vital connections in the industry. \nVenue & Location\nThe Las Vegas Convention Center located at 3150 Paradise Road\, Las Vegas\, NV\, United States\, is known for its state-of-the-art facilities. It provides convenient access for exhibitors with ample logistics support\, ensuring a smooth move-in process and efficient docking. \nLas Vegas NV: Our Services\nWe DESIGN\, PRODUCE\, INSTALL & DISMANTLE turnkey booth rentals in Las Vegas NV. Our comprehensive services cover everything from concept and design to modular frames\, branded SEG graphics\, and on-site installation and dismantling. We pride ourselves on offering solutions that are tailored to meet your exhibitor needs. \nCustom Booth Models\nExplore our Snap Exhibitions Custom Booth Models\, designed to meet the demands of your industry. Popular booth sizes include: \n\n10×10: Ideal for small exhibitors focused on high-quality interactions.\n10×20: Suitable for those seeking to enhance visibility with additional display options.\n20×20: Perfect for brands wanting a dynamic atmosphere to attract large audiences.\n\nEach design accommodates the unique needs of participants in the Catering & Hospitality Industries\, Food Processing Industries. Enjoy our full-service exhibit support for a hassle-free experience. \nFAQ\nQ1: What is the Sweets & Snacks Expo 2026 booth rental?\nA: Sweets & Snacks Expo 2026 booth rental is an opportunity for exhibitors to showcase their products effectively during the expo. \nQ2: What are the dates and hours for the expo?\nA: The expo takes place from June 22 to June 24\, 2026\, running daily from 9:00 AM to 5:00 PM. \nQ3: What booth sizes are recommended for the Catering & Hospitality Industries?\nA: Booth sizes of 10×10\, 10×20\, or 20×20 are recommended based on attendee engagement strategies. \nQ4: Why is an aluminum booth better than wood?\nA: Aluminum booths are lighter\, more durable\, and offer a modern aesthetic compared to traditional wooden designs. \nQ5: What services does Snap Exhibitions offer in Las Vegas?\nA: We provide complete turnkey solutions for exhibit rentals\, including custom designs\, installation\, dismantling\, and on-site support. \nQ6: How can Snap Exhibitions help make everything perfect about my booth?\nA: We work closely with you from design to execution\, ensuring your booth meets all your expectations and draws visitors effectively. \nBy securing a Sweets & Snacks Expo 2026 booth rental\, you position your brand for success. Contact us today to contact our team and take your exhibitor experience to the next level!
URL:https://ippe2026.com/event/sweets-snacks-expo-2026/
CATEGORIES:Catering & Hospitality Industries,Food Processing Industries
END:VEVENT
BEGIN:VEVENT
DTSTART;TZID=UTC:20260519T090000
DTEND;TZID=UTC:20260521T235959
DTSTAMP:20260423T212713
CREATED:20251022T043112Z
LAST-MODIFIED:20251022T043112Z
UID:25908-1779181200-1779407999@ippe2026.com
SUMMARY:LAS VEGAS LICENSING EXPO 2026
DESCRIPTION:LAS VEGAS LICENSING EXPO 2026 — Exhibitor Guide & Essential Options\nAbout LAS VEGAS LICENSING EXPO 2026\nWelcome to the LAS VEGAS LICENSING EXPO 2026 booth rental event! This premier trade show is a must-attend for marketers and franchise experts looking to explore the vast licensing universe. With Licensing Expo being the world’s largest licensing show\, attendees can look forward to a gathering of thousands of brands\, providing an exceptional opportunity to speak directly with brand decision-makers and enhance marketing strategies. The expo serves industries centered around Marketing & Selling and Franchising. \nKey Details: \nDate: Jun 21–23\, 2026\, 9:00 AM–5:00 PM \nLocation: Mandalay Bay Convention Center \nAddress: 3950 Las Vegas Blvd. South\, Las Vegas\, Nevada 89119\, USA \nVenue & Location\nThe event will take place at the Mandalay Bay Convention Center\, located at 3950 Las Vegas Blvd. South\, Las Vegas\, Nevada 89119\, USA. This state-of-the-art venue offers excellent logistics for exhibitors\, including efficient access for move-in and dock operations. \nLas Vegas NV: Our Services\nWe DESIGN\, PRODUCE\, INSTALL & DISMANTLE turnkey booth rentals in Las Vegas. Our comprehensive services include concept and design\, modular frames\, branded SEG graphics\, reception/storage areas\, TV mounts\, and on-site installation and dismantling. We ensure your booth reflects your brand’s essence and captivates your audience. \nCustom Booth Models\nAt Snap Exhibitions\, we provide various popular footprints like 10×10\, 10×20\, and 20×20 to fit different exhibitor needs. These sizes are ideal for maximizing visibility while accommodating the industry’s demands for Snap Exhibitions Custom Booth Models. You can rely on our full-service exhibit support to customize your experience and ensure success! \nFAQ\n\nWhat is LAS VEGAS LICENSING EXPO 2026 booth rental?It is a service that allows exhibitors to rent fully designed booths for the event.\nWhen does the event occur?The event runs from June 21–23\, 2026\, from 9:00 AM to 5:00 PM.\nWhat booth sizes are recommended for Marketing & Selling industries?We recommend sizes like 10×10 for smaller displays\, and 20×20 for larger engagements.\nWhy is an aluminum booth better than wood?Aluminum booths are lighter\, more flexible in design\, and offer durability compared to wood ones.\nWhat can I expect at the LAS VEGAS LICENSING EXPO 2026?You can expect to meet industry leaders\, network\, and gain deep insights into licensing and marketing.\nHow can SNAP EXHIBITIONS help ensure everything is perfect about my booth?We provide end-to-end services to tailor your booth according to your specifications\, handling every detail to perfection.\nWhere is Mandalay Bay Convention Center?It is located at 3950 Las Vegas Blvd. South\, Las Vegas\, Nevada 89119\, USA\, central to all main access points.\n\nIn conclusion\, if you’re looking for the best LAS VEGAS LICENSING EXPO 2026 booth rental options\, we invite you to contact our team to discuss your needs and ensure a standout presence at this major event!
URL:https://ippe2026.com/event/las-vegas-licensing-expo-2026/
CATEGORIES:Franchising,Marketing & Selling
END:VEVENT
BEGIN:VEVENT
DTSTART;TZID=UTC:20260520T090000
DTEND;TZID=UTC:20260521T235959
DTSTAMP:20260423T212713
CREATED:20251022T050029Z
LAST-MODIFIED:20251022T050029Z
UID:26004-1779267600-1779407999@ippe2026.com
SUMMARY:HOME DELIVERY WORLD 2026
DESCRIPTION:HOME DELIVERY WORLD 2026 Booth Rental — Ultimate Exhibitor Guide\nAbout HOME DELIVERY WORLD 2026\nHOME DELIVERY WORLD 2026 booth rental offers an exceptional opportunity for exhibitors in the logistics and transportation engineering sector. Attendees can expect to engage with key industry leaders and gain insights into every aspect of the retail logistics and supply chain process. This event\, taking place from Jan 19–20\, 2026\, at Music City Center\, 201 Fifth Avenue South\, Nashville\, TN\, USA\, is the perfect venue for enhancing your delivery and customer experience strategies. \nKey Details: \n\nDate: Jan 19–20\, 2026\nLocation: Music City Center\nAddress: 201 Fifth Avenue South\, Nashville\, TN 37203\nCountry: United States\nWebsite: Visit Event Site\n\nIndustries & Audience: Logistics & Transportation Engineering\, Handling Operations\, Storage\, Trucks and Utility Vehicles\, Internet & Intranet\, Marketing & Selling. \nVenue & Location\nExperience the vibrant atmosphere of Music City Center located in the heart of Nashville\, TN. With ample space for exhibitors and visitors\, the venue offers excellent facilities for smooth move-in logistics and dock access. For inquiries\, you can reach us at +1 (646) 619 1797. \nNashville TN: Our Services\nWe DESIGN\, PRODUCE\, INSTALL & DISMANTLE turnkey booth rentals in Nashville\, TN. Our scope includes concept/design\, modular frames\, branded SEG graphics\, reception/storage\, TV mount\, and on-site installation & dismantling (I&D). This suburb of Nashville offers unique opportunities for exhibitors to shine in the logistics field. \nCustom Booth Models\nWe offer a variety of Snap Exhibitions Custom Booth Models. Popular footprints for logistics exhibitors include: \n\n10×10: Ideal for showcasing essential products and services in a compact format.\n10×20: Provides more visibility and is suitable for a broader presentation in logistics.\n20×20: Best for impactful displays that attract attention and engage larger audiences.\n\nThese sizes efficiently cater to attendees in the logistics sector and facilitate better networking opportunities. \nWe pride ourselves on delivering full-service exhibit support. For tailored booth solutions\, contact our team today! \nFAQ\n\nWhat is HOME DELIVERY WORLD 2026 Booth Rental?HOME DELIVERY WORLD 2026 booth rental allows exhibitors to showcase their products to a targeted audience in the logistics and transportation sector.\nWhen are the event hours?Event hours are from January 19 to January 20\, 2026.\nWhat booth sizes are recommended for logistics sectors?Popular booth sizes include 10×10\, 10×20\, and 20×20\, offering flexibility based on engagement needs.\nWhy choose aluminum booths over wood?Aluminum booths are lighter\, more durable\, and offer better design flexibility compared to traditional wood booths.\nWhat can I expect in Nashville during the event?Nashville offers rich cultural experiences alongside exciting networking opportunities related to logistics and transportation.\nHow can SNAP EXHIBITIONS help make everything perfect about their booth?We ensure that every aspect of your booth—from design to dismantling—is managed efficiently and effectively to create a seamless experience.\n\nIn summary\, HOME DELIVERY WORLD 2026 booth rental is your gateway to success in the logistics industry. Don’t hesitate to contact us at Snap Exhibitions to start planning an impactful booth experience!
URL:https://ippe2026.com/event/home-delivery-world-2026/
CATEGORIES:Internet & Intranet,Logistics & Transportation Engineering - Handling Operations - Storage,Marketing & Selling,Trucks and Utility Vehicles
END:VEVENT
BEGIN:VEVENT
DTSTART;TZID=UTC:20260520T090000
DTEND;TZID=UTC:20260521T235959
DTSTAMP:20260423T212713
CREATED:20251022T050046Z
LAST-MODIFIED:20251022T050046Z
UID:26005-1779267600-1779407999@ippe2026.com
SUMMARY:HOME DELIVERY WORLD WEST 2026
DESCRIPTION:HOME DELIVERY WORLD WEST 2026 Booth Rental — Impactful\nAbout HOME DELIVERY WORLD WEST 2026\nHOME DELIVERY WORLD WEST 2026 booth rental is an opportunity for exhibitors to showcase their offerings at this premier event. Taking place from March 28–29\, 2026\, in Nashville\, TN\, this exhibition attracts professionals from various sectors including Logistics & Transportation Engineering – Handling Operations – Storage\, Trucks and Utility Vehicles\, Internet & Intranet\, Marketing & Selling. Exhibitors can gain valuable insights and networking opportunities by participating in the event. \n\nKey Details: March 28–29\, 2026\, 9:00 AM–5:00 PM\nLocation: Music City Center\, 201 Fifth Avenue South\, Nashville\, TN 37203\, USA\nEvent Website\n\nThis event offers a platform for major retailers\, small and medium enterprises\, and innovation leaders in the home delivery space to connect\, learn\, and grow. \nVenue & Location\nThe Music City Center is centrally located at 201 Fifth Avenue South in Nashville\, TN\, providing easy access for attendees. It features excellent logistics with multiple entrances and loading docks for a seamless setup experience. \nNashville TN: Our Services\nIn Nashville\, TN\, we DESIGN\, PRODUCE\, INSTALL & DISMANTLE turnkey booth rentals. Our services include: \n\nConcept and design tailored to your brand\nModular frames that suit various space configurations\nBranded SEG graphics for impactful visuals\nReception and storage options\nOn-site installation and dismantling\n\nCustom Booth Models\nWe offer various booth sizes to fit different exhibitor needs:\n– **10×10 booths** are perfect for small businesses and startups\, providing enough space to showcase products effectively.\n– **10×20 booths** offer a larger footprint\, suitable for medium-sized companies looking to make a bigger impact.\n– **20×20 booths** are ideal for large organizations that want to create an elaborate display to attract potential clients.\nCheck out our Snap Exhibitions Custom Booth Models for more options. \nFor comprehensive support\, visit our full-service exhibit support page. \nFAQ\nWhat is HOME DELIVERY WORLD WEST 2026 booth rental?\nHOME DELIVERY WORLD WEST 2026 booth rental allows exhibitors to showcase their brands and products during the event\, maximizing exposure and networking opportunities. \nWhat are the event hours and dates?\nThe event runs from March 28 to March 29\, 2026\, from 9:00 AM to 5:00 PM. \nWhat booth sizes are recommended for the Logistics & Transportation sector?\nA 10×10 booth is recommended for startups\, while 10×20 and 20×20 options work well for established companies looking for more visibility. \nWhy is an aluminum booth better than wood?\nAluminum booths are typically more durable\, lighter\, and allow for easier customization compared to traditional wood structures. \nWhat services does SNAP Exhibitions offer in Nashville?\nWe offer turnkey booth rentals\, including design\, production\, installation\, and dismantling services. \nHow can SNAP EXHIBITIONS help make everything perfect about my booth?\nWe specialize in turnkey booth rentals\, utilizing our expertise in design and logistics to ensure your booth stands out and meets all your needs. \nWe encourage you to explore HOME DELIVERY WORLD WEST 2026 booth rental options. Contact us today through this link to ensure your successful participation in the exhibition!
URL:https://ippe2026.com/event/home-delivery-world-west-2026/
CATEGORIES:Internet & Intranet,Logistics & Transportation Engineering - Handling Operations - Storage,Marketing & Selling,Trucks and Utility Vehicles
END:VEVENT
END:VCALENDAR