BEGIN:VCALENDAR
VERSION:2.0
PRODID:-//IPPE 2026 Atlanta — Local Booth Builder &amp; Rentals - ECPv6.15.20//NONSGML v1.0//EN
CALSCALE:GREGORIAN
METHOD:PUBLISH
X-ORIGINAL-URL:https://ippe2026.com
X-WR-CALDESC:Events for IPPE 2026 Atlanta — Local Booth Builder &amp; Rentals
REFRESH-INTERVAL;VALUE=DURATION:PT1H
X-Robots-Tag:noindex
X-PUBLISHED-TTL:PT1H
BEGIN:VTIMEZONE
TZID:UTC
BEGIN:STANDARD
TZOFFSETFROM:+0000
TZOFFSETTO:+0000
TZNAME:UTC
DTSTART:20250101T000000
END:STANDARD
END:VTIMEZONE
BEGIN:VEVENT
DTSTART;TZID=UTC:20260529T090000
DTEND;TZID=UTC:20260530T235959
DTSTAMP:20260423T212626
CREATED:20251021T170834Z
LAST-MODIFIED:20251021T170834Z
UID:25805-1780045200-1780185599@ippe2026.com
SUMMARY:INTERNATIONAL FRANCHISE EXPO 2026
DESCRIPTION:INTERNATIONAL FRANCHISE EXPO 2026 — Exhibitor Guide & Ultimate Booth Options\nAbout INTERNATIONAL FRANCHISE EXPO 2026\nWelcome to the INTERNATIONAL FRANCHISE EXPO 2026. As a pivotal event in the franchising world\, this expo brings together the hottest franchise brands appealing to all investment levels and various industries. Attendees will gain invaluable insights\, connect with leading franchise operators\, and explore diverse opportunities to expand their portfolio in a dynamic marketplace. Key Details:\nDate: Nov 21-23\, 2026\nLocation: Jacob K. Javits Convention Center\, 655 West 34th Street\, New York\, NY 10001-1188\, USA\nWebsite: Visit the event site\nIndustries & Audience: Franchising\, Marketing & Selling\, Investors\n \nVenue & Location\nThe Jacob K. Javits Convention Center is located at 655 West 34th Street\, New York\, NY 10001-1188\, USA. Known for its modern facilities\, it provides optimal logistics for exhibitors\, including move-in windows and convenient dock access for seamless setup and takedown. \nNew York NY: Our Services\nWe proudly support exhibitors in New York NY by offering comprehensive design\, production\, installation\, and dismantle of turnkey booth rentals. Our services cover everything from concept and design to modular frames\, branded SEG graphics\, storage solutions\, and on-site installation/dismantling services. \nCustom Booth Models\nAt the INTERNATIONAL FRANCHISE EXPO 2026\, consider popular booth models like 10×10\, 10×20\, and 20×20 that cater specifically to sectors such as Franchising\, Marketing & Selling\, Investors. Each footprint is designed to optimize visitor engagement and showcase your brand effectively. For more about our offerings\, check out the Snap Exhibitions Custom Booth Models and our full-service exhibit support. If you’re ready to elevate your presence\, contact our team for customized solutions. \nFAQ\nQ: What is the INTERNATIONAL FRANCHISE EXPO 2026 booth rental?\nA: Our booth rental service at the INTERNATIONAL FRANCHISE EXPO 2026 includes a comprehensive package that provides everything needed for an attractive and functional exhibitor space. \nQ: What are the dates and hours of the event?\nA: The event runs from Nov 21-23\, 2026. Make sure to check the event schedule for specific hours each day! \nQ: What booth sizes are recommended for the Franchising sectors?\nA: For the Franchising sectors\, popular recommendations are 10×10 or 10×20 booths as they provide ample space for engagement without overwhelming attendees. \nQ: Why is an aluminum booth better than wood?\nA: Aluminum booths are lightweight\, durable\, and can be designed with sleek\, modern aesthetics that appeals to current market trends\, making them more advantageous than traditional wood options. \nQ: What can attendees expect from the INTERNATIONAL FRANCHISE EXPO?\nA: Attendees can expect to meet leading franchise brands\, engage in informative sessions\, and discover lucrative investment opportunities tailored to various interests. \nQ: How can SNAP EXHIBITIONS help perfect your booth?\nA: With our turnkey booth rentals\, we provide complete solutions from design to installation\, ensuring that everything meets your expectations and represents your brand optimally. \nAs your go-to resource for INTERNATIONAL FRANCHISE EXPO 2026 booth rental\, we invite you to explore our comprehensive services and ensure your presence is impactful. Contact us today!
URL:https://ippe2026.com/event/international-franchise-expo-2026/
CATEGORIES:Franchising,Investors,Marketing & Selling
END:VEVENT
BEGIN:VEVENT
DTSTART;TZID=UTC:20260530T090000
DTEND;TZID=UTC:20260531T235959
DTSTAMP:20260423T212626
CREATED:20251022T194415Z
LAST-MODIFIED:20251022T194415Z
UID:26190-1780131600-1780271999@ippe2026.com
SUMMARY:ROCK ‘N’ ROLL SAN DIEGO 2026
DESCRIPTION:ROCK ‘N’ ROLL SAN DIEGO 2026 booth rental — Ultimate Exhibitor Guide & Custom Booth Options\nAbout ROCK ‘N’ ROLL SAN DIEGO 2026\nROCK ‘N’ ROLL SAN DIEGO 2026 booth rental is a premium choice for exhibitors looking to stand out at one of the biggest running events in the country. Attendees experience high-energy festivities\, with options for all running enthusiasts including a Marathon\, Half Marathon\, and 10K. Get ready to elevate your brand’s visibility and engage with a diverse audience\, making valuable connections that can lead to future opportunities. \n\nKey Details: May 28–30\, 2026\, 7:00 AM–3:00 PM\nLocation: San Diego Convention Center\nAddress: 111 W. Harbor Drive\, San Diego\, CA 92101\nCountry: United States\nEvent Web: Rock ‘n’ Roll San Diego\n\n**Industries & Audience**: The event caters to various sectors within the Sports industry\, making it the perfect place for brands to showcase their offerings. \nVenue & Location\nThe event will be held at the San Diego Convention Center\, located at 111 W. Harbor Drive\, San Diego\, CA 92101\, United States. This venue provides general logistics support with move-in windows and dock access for easy setup and dismantle. \nSan Diego CA: Our Services\nIn San Diego CA\, we DESIGN\, PRODUCE\, INSTALL & DISMANTLE turnkey booth rentals. Our scope includes concept/design\, modular frames\, branded SEG graphics\, reception/storage areas\, and TV mounts. We manage everything to ensure your booth is functional and engaging. \nCustom Booth Models\nAt Snap Exhibitions\, we offer a variety of popular booth footprints suited for the Sports sector\, including: \n\n10×10: Ideal for smaller brands looking to establish a presence.\n10×20: A good middle-ground option providing more space for interaction.\n20×20: Perfect for larger companies wanting to create a standout experience.\n\nCheck out our Snap Exhibitions Custom Booth Models for more options. We also provide full-service exhibit support to ensure a smooth experience. For further inquiries\, contact our team. \nFAQ\nQ: What is ROCK ‘N’ ROLL SAN DIEGO 2026 booth rental?A: ROCK ‘N’ ROLL SAN DIEGO 2026 booth rental is designed for exhibitors looking to make a significant impact at the event. \nQ: What are the event hours?A: The event is from May 28–30\, 2026\, running from 7:00 AM to 3:00 PM. \nQ: What booth sizes are recommended for the Sports category?A: Recommended sizes include 10×10 for startup booths\, 10×20 for more visibility\, and 20×20 for larger brands. \nQ: Why are aluminum booths better than wood?A: Aluminum booths are lighter\, more durable\, and provide a sleek modern look that enhances any exhibit space. \nQ: What is there to do in San Diego during the event?A: San Diego offers a plethora of attractions\, dining\, and outdoor activities that will keep attendees engaged during their stay. \nQ: How can SNAP EXHIBITIONS help me make everything perfect about my booth?A: We offer comprehensive services that cover every aspect of booth design and setup\, ensuring your experience is seamless. \nIn conclusion\, choosing ROCK ‘N’ ROLL SAN DIEGO 2026 booth rental is your gateway to a successful event. Engage with attendees\, showcase your brand\, and don’t miss out on the opportunity to connect! \nFor tailored solutions\, contact our team today!
URL:https://ippe2026.com/event/rock-n-roll-san-diego-2026/
CATEGORIES:Sports
END:VEVENT
END:VCALENDAR