BEGIN:VCALENDAR
VERSION:2.0
PRODID:-//IPPE 2026 Atlanta — Local Booth Builder &amp; Rentals - ECPv6.15.20//NONSGML v1.0//EN
CALSCALE:GREGORIAN
METHOD:PUBLISH
X-ORIGINAL-URL:https://ippe2026.com
X-WR-CALDESC:Events for IPPE 2026 Atlanta — Local Booth Builder &amp; Rentals
REFRESH-INTERVAL;VALUE=DURATION:PT1H
X-Robots-Tag:noindex
X-PUBLISHED-TTL:PT1H
BEGIN:VTIMEZONE
TZID:UTC
BEGIN:STANDARD
TZOFFSETFROM:+0000
TZOFFSETTO:+0000
TZNAME:UTC
DTSTART:20250101T000000
END:STANDARD
END:VTIMEZONE
BEGIN:VEVENT
DTSTART;TZID=UTC:20260613T090000
DTEND;TZID=UTC:20260619T235959
DTSTAMP:20260423T230018
CREATED:20251021T181135Z
LAST-MODIFIED:20251021T181135Z
UID:25866-1781341200-1781913599@ippe2026.com
SUMMARY:INFOCOMM INTERNATIONAL 2026
DESCRIPTION:INFOCOMM INTERNATIONAL 2026 booth rental — Ultimate Exhibitor Guide & Custom Booth Options\nAbout INFOCOMM INTERNATIONAL 2026\nVenue & Location\nLas Vegas NV: Our Services\nCustom Booth Models\nFAQ\n\nINFOCOMM INTERNATIONAL 2026: An Overview\nINFOCOMM INTERNATIONAL 2026 booth rental is a must for exhibitors looking to make a significant impact in the multimedia and corporate communications sectors. Held from June 10–12\, 2026\, at Las Vegas Convention Center\, 3150 Paradise Road\, Las Vegas\, NV 89109\, USA\, this event will feature cutting-edge technology that showcases the latest in multimedia\, video\, display\, projection\, lighting\, and digital signage. \nAttendees from various sectors including Public Relations & Advertising\, Broadcasting\, Television & Entertainment\, Sound & Image Technologies\, Multimedia Technologies\, Telecommunications\, Computers Networks\, and Computers will find this event to be essential for networking and discovering new trends. \nKey Details\n\nDate: June 10–12\, 2026\nLocation: Las Vegas Convention Center\nAddress: 3150 Paradise Road\, Las Vegas\, NV 89109\, USA\nEvent Website: INFOCOMM 2026\n\n\n\nVenue & Location\nThe Las Vegas Convention Center is a prime location for hosting INFOCOMM INTERNATIONAL 2026. Convenient access for exhibitors facilitates seamless setup and dismantle. Though phone support is unavailable\, the venue offers ample space for showcasing innovations in multimedia technologies. \n\n\nLas Vegas NV: Our Services\nWe DESIGN\, PRODUCE\, INSTALL & DISMANTLE turnkey booth rentals in Las Vegas NV. Our offerings include concept/design\, modular frames\, branded SEG graphics\, reception/storage\, and TV mount. We take pride in our exceptional service to ensure your exhibit stands out. \n\n\nCustom Booth Models\nWe offer a variety of booth sizes to cater to the diverse needs of exhibitors in multimedia sectors. Popular footprints include: \n\n10×10: Ideal for small businesses looking to make a big impression.\n10×20: Perfect for balancing presence with cost\, suitable for those wanting to showcase more products or services.\n20×20: Offers significant space for larger displays\, suited for established brands wanting to attract attention.\n\nExplore our Snap Exhibitions Custom Booth Models that can be tailored to your specifications. \n\n\nFAQ\nWhat can I expect at INFOCOMM INTERNATIONAL 2026 booth rental?\nAt INFOCOMM INTERNATIONAL 2026 booth rental\, we ensure you gain maximum visibility and engagement with potential clients. \nWhat are the event hours for INFOCOMM INTERNATIONAL 2026?\nThe event will run from June 10 to 12\, 2026\, with specific hours yet to be announced. \nWhat booth sizes are recommended for the multimedia sectors?\nSmaller businesses may opt for a 10×10 footprint\, while larger enterprises often benefit from 20×20 spaces to display their innovations effectively. \nWhy is an aluminum booth better than wood?\nAluminum booths are lighter\, more durable\, and can easily be customized compared to wooden structures\, making them a superior choice. \nWhat local attractions should I explore in Las Vegas during the event?\nExplore world-class entertainment\, dining\, and attractions that make Las Vegas a unique meeting destination. \nCan Snap Exhibitions help me to make everything perfect for my booth?\nAbsolutely! We specialize in turnkey solutions and will assist you every step of the way to ensure your exhibit is flawless. \n\nINFOCOMM INTERNATIONAL 2026 booth rental will equip you with the tools you need to stand out in this competitive landscape. Don’t miss out on this opportunity; contact our team today to discuss your booth needs!
URL:https://ippe2026.com/event/infocomm-international-2026/
CATEGORIES:Broadcasting,Computers,Computers Networks,Multimedia Technologies,Public Relations & Advertising,Sound & Image Technologies,Telecommunications,Television & Entertainment
END:VEVENT
END:VCALENDAR