BEGIN:VCALENDAR
VERSION:2.0
PRODID:-//IPPE 2026 Atlanta — Local Booth Builder &amp; Rentals - ECPv6.15.20//NONSGML v1.0//EN
CALSCALE:GREGORIAN
METHOD:PUBLISH
X-WR-CALNAME:IPPE 2026 Atlanta — Local Booth Builder &amp; Rentals
X-ORIGINAL-URL:https://ippe2026.com
X-WR-CALDESC:Events for IPPE 2026 Atlanta — Local Booth Builder &amp; Rentals
REFRESH-INTERVAL;VALUE=DURATION:PT1H
X-Robots-Tag:noindex
X-PUBLISHED-TTL:PT1H
BEGIN:VTIMEZONE
TZID:UTC
BEGIN:STANDARD
TZOFFSETFROM:+0000
TZOFFSETTO:+0000
TZNAME:UTC
DTSTART:20250101T000000
END:STANDARD
END:VTIMEZONE
BEGIN:VEVENT
DTSTART;TZID=UTC:20260628T090000
DTEND;TZID=UTC:20260630T235959
DTSTAMP:20260423T225427
CREATED:20251021T173515Z
LAST-MODIFIED:20251021T173515Z
UID:25811-1782637200-1782863999@ippe2026.com
SUMMARY:SUMMER FANCY FOOD SHOW 2026
DESCRIPTION:SUMMER FANCY FOOD SHOW 2026 — Exhibitor Guide & Ultimate Options\nAbout SUMMER FANCY FOOD SHOW 2026\nVenue & Location\nNew York NY: Our Services\nCustom Booth Models\nFAQ\nSUMMER FANCY FOOD SHOW 2026\nJoin us at the SUMMER FANCY FOOD SHOW 2026 for an outstanding opportunity to network with professionals from the Catering & Hospitality Industries\, Food Processing Industries\, Wine & Spirits – Viticulture & Enology – Beer. This premier event offers an array of innovative products and services that can help elevate your business. With a chance to meet buyers from every major food and beverage channel in the U.S. and beyond\, exhibitors will gain invaluable insights and connections during this bustling show. \nKey Details:\nDate: Jun 26–28\, 2026 9:00 AM–5:00 PM\nLocation: Jacob K. Javits Convention Center\nAddress: 655 West 34th Street\, New York\, NY 10001-1188\, USA\nWebsite: Learn More \nThe audience comprises professionals from sectors including Catering & Hospitality Industries\, Food Processing Industries\, Wine & Spirits – Viticulture & Enology – Beer. \nVenue & Location\nThe Jacob K. Javits Convention Center is conveniently located at 655 West 34th Street\, New York\, NY. The center has ample space for move-in and dock access\, providing a seamless experience for exhibitors. \nNew York NY: Our Services\nIn New York NY\, we DESIGN\, PRODUCE\, INSTALL & DISMANTLE turnkey booth rentals. Our comprehensive service covers everything from concept and design through to modular frames and branded SEG graphics. We ensure that your booth is equipped with reception areas\, storage\, TV mounts\, and support on-site for installation and dismantling. \nCustom Booth Models\nAt SNAP Exhibitions\, we offer a variety of booth sizes to meet different exhibitor needs. Our popular footprints include: \n\n10×10 booths – ideal for small businesses showcasing unique products.\n10×20 booths – perfect for larger displays with more elaborate interactions.\n20×20 booths – designed for businesses needing significant space to highlight multiple offerings.\n\nEach of these options is tailored to cater to attendees in the Catering & Hospitality Industries\, Food Processing Industries. \nExplore our Snap Exhibitions Custom Booth Models and take the first step toward a successful showing! \nOur team provides full-service exhibit support\, ensuring that every detail is attended to before\, during\, and after the event. For an extraordinary booth experience\, contact our team today! \nFAQ\n\nWhat is SUMMER FANCY FOOD SHOW 2026?\nSUMMER FANCY FOOD SHOW 2026 is a prominent international showcase for the food & beverage industry\, featuring numerous exhibitors and extraordinary culinary innovations.\nWhat are the event hours for the SUMMER FANCY FOOD SHOW 2026?\nThe event runs from June 26 to June 28\, 2026\, from 9:00 AM to 5:00 PM.\nWhat booth sizes do you recommend for Catering & Hospitality Industries?\nWe recommend considering 10×10\, 10×20\, or even larger 20×20 booths\, depending on the scale and audience engagement desired.\nWhy is an aluminum booth better than wood?\nAluminum is lighter\, more durable\, and easier to transport than wood\, providing a sustainable and flexible option for booth designs.\nWhat should I know about New York for my exhibition?\nNew York is a vibrant hub for the food & beverage industry\, offering unparalleled networking opportunities and a diverse audience of potential clients.\nWhat is SUMMER FANCY FOOD SHOW 2026?\nSUMMER FANCY FOOD SHOW 2026 showcases innovations in food and beverages\, attracting professionals across numerous industries.\nHow can SNAP EXHIBITIONS help make everything perfect about my booth?\nWe specialize in turnkey booth rentals\, handling design\, production\, installation\, and dismantling to ensure your event goes smoothly.\n\nIn conclusion\, for the SUMMER FANCY FOOD SHOW 2026\, we provide expert booth rental solutions. To get started on making your exhibit a success\, contact our team today!
URL:https://ippe2026.com/event/summer-fancy-food-show-2026/
CATEGORIES:Catering & Hospitality Industries,Food Processing Industries,Wine & Spirits - Viticulture & Enology - Beer
END:VEVENT
END:VCALENDAR