BEGIN:VCALENDAR
VERSION:2.0
PRODID:-//IPPE 2026 Atlanta — Local Booth Builder &amp; Rentals - ECPv6.15.20//NONSGML v1.0//EN
CALSCALE:GREGORIAN
METHOD:PUBLISH
X-WR-CALNAME:IPPE 2026 Atlanta — Local Booth Builder &amp; Rentals
X-ORIGINAL-URL:https://ippe2026.com
X-WR-CALDESC:Events for IPPE 2026 Atlanta — Local Booth Builder &amp; Rentals
REFRESH-INTERVAL;VALUE=DURATION:PT1H
X-Robots-Tag:noindex
X-PUBLISHED-TTL:PT1H
BEGIN:VTIMEZONE
TZID:UTC
BEGIN:STANDARD
TZOFFSETFROM:+0000
TZOFFSETTO:+0000
TZNAME:UTC
DTSTART:20250101T000000
END:STANDARD
END:VTIMEZONE
BEGIN:VEVENT
DTSTART;TZID=UTC:20260703T090000
DTEND;TZID=UTC:20260705T235959
DTSTAMP:20260423T225430
CREATED:20251021T164353Z
LAST-MODIFIED:20251021T164353Z
UID:25757-1783069200-1783295999@ippe2026.com
SUMMARY:ANIME MIDWEST ANIMATION CONVENTION 2026
DESCRIPTION:ANIME MIDWEST ANIMATION CONVENTION 2026 booth rental — Essential Exhibitor Guide & Custom Booth Options\nAbout ANIME MIDWEST ANIMATION CONVENTION 2026\nVenue & Location\nRosemont IL: Our Services\nCustom Booth Models\nFAQ\nANIME MIDWEST ANIMATION CONVENTION 2026 booth rental is your gateway to success in the vibrant world of animation expos! Set in the dynamic Atmosphere of Chicago\, this three-day event offers a plethora of opportunities for both exhibitors and visitors. Join us from June 30 – July 2\, 2026\, at Hyatt Regency O’Hare\, located at 9300 Bryn Mawr Avenue\, Rosemont\, IL\, 60018\, USA. This exciting convention showcases animation premieres\, interactive anime competitions\, and engaging cosplay events\, inviting industry professionals and fans alike. \nKey Details: \n\nDate: June 30 – July 2\, 2026\, 9:00 AM – 5:00 PM\nLocation: Hyatt Regency O’Hare\nAddress: 9300 Bryn Mawr Avenue\, Rosemont\, IL\, 60018\, USA\nCountry: United States\n\nIndustries & Audience: This event caters to the Broadcasting\, Television & Entertainment\, Video Games – Interactive Entertainment\, Music\, Toys & Games sectors. \nVenue & Location\nThe ANIME MIDWEST ANIMATION CONVENTION 2026 will take place at the renowned Hyatt Regency O’Hare\, located at 9300 Bryn Mawr Avenue\, Rosemont\, IL\, 60018\, USA. This prime venue provides excellent logistics for exhibitors\, such as convenient move-in windows and dock access. For inquiries\, feel free to reach out to the venue directly. \nRosemont IL: Our Services\nWe DESIGN\, PRODUCE\, INSTALL & DISMANTLE turnkey booth rentals in Rosemont IL. Our services encompass every aspect of your exhibition needs—from concept and design to modular frames and branded SEG graphics. We also provide storage\, reception areas\, and TV mount fittings\, ensuring your booth stands out in this vibrant city! \nCustom Booth Models\nFor the ANIME MIDWEST ANIMATION CONVENTION 2026\, we offer various popular booth footprints. Our 10×10 models are ideal for showcasing individual creators and businesses\, while the 10×20 and 20×20 options cater to larger exhibitors looking to showcase their products effectively. Our Snap Exhibitions Custom Booth Models include unique designs tailored for the industries involved at this event. \nFor a full overview of our offerings\, please check our full-service exhibit support. If you’re ready to elevate your exhibition experience\, contact our team to discuss your booth rental options. \nFAQ\nWhat is ANIME MIDWEST ANIMATION CONVENTION 2026 booth rental?\nANIME MIDWEST ANIMATION CONVENTION 2026 booth rental provides exhibitors with custom-designed spaces to showcase their products and engage with attendees effectively. \nWhat are the dates and hours for the event?\nThe event runs from June 30 – July 2\, 2026\, from 9:00 AM to 5:00 PM each day. \nWhat booth sizes do you recommend for the Broadcasting and Entertainment sectors?\nFor the Broadcasting and Entertainment sectors\, we recommend utilizing the 10×20 and 20×20 booth sizes\, which provide ample space for displays and interactions. \nWhy is an aluminum booth better than wood?\nAluminum booths are more lightweight and durable than wood\, offering easier transportation and installation\, and providing a sleek\, modern look that appeals to attendees. \nWhat services does the Hyatt Regency O’Hare offer for exhibitors?\nThe Hyatt Regency O’Hare provides convenient access for move-in and essential services for exhibitors\, making it easier to set up your booth. \nHow can ANIME MIDWEST ANIMATION CONVENTION 2026 help me succeed?\nWe facilitate connections with other industry players and provide an engaging environment that enhances the overall experience for both exhibitors and attendees. \nIf you want to enhance your visibility and reach at the ANIME MIDWEST ANIMATION CONVENTION 2026\, consider our tailored booth rental solutions. ANIME MIDWEST ANIMATION CONVENTION 2026 booth rental can make your exhibition experience seamless. Contact our team today to get started!
URL:https://ippe2026.com/event/anime-midwest-animation-convention-2026/
CATEGORIES:Broadcasting,Music,Television & Entertainment,Toys & Games,Video Games - Interactive Entertainment
END:VEVENT
BEGIN:VEVENT
DTSTART;TZID=UTC:20260704T090000
DTEND;TZID=UTC:20260705T235959
DTSTAMP:20260423T225430
CREATED:20251022T042935Z
LAST-MODIFIED:20251022T042935Z
UID:25903-1783155600-1783295999@ippe2026.com
SUMMARY:WEST SHORE ART FAIR 2026
DESCRIPTION:WEST SHORE ART FAIR 2026 Booth Rental — Ultimate Guide\nAbout WEST SHORE ART FAIR 2026\nJoin us at the WEST SHORE ART FAIR 2026\, an exciting event taking place in Ludington\, MI\, where art enthusiasts gather to enjoy a diverse display of creative works. This fine art and craft fair will feature over 100 jury-selected artists showcasing exquisite works in clay\, glass\, fiber\, and more. As an exhibitor\, you can expect to connect with art lovers and increase your visibility in the vibrant market of Art and Antiques\, Photography\, Jewelry\, Handicraft Products. \nKey Details:September 4–5\, 2026\, 10:00 AM–6:00 PMLudington’s Rotary Park500 Block of Ludington Avenue\, Ludington\, MI 49431\, USAFor more information\, visit this link. \nVenue & Location\nThe event will take place at Ludington’s Rotary Park\, an ideal location featuring easy access for both attendees and exhibitors. Ample space is available for setup\, allowing you to effectively showcase your stunning artworks. If you need assistance\, feel free to call us at +1 (231) 845-2787. \nLudington MI: Our Services\nIn Ludington\, MI\, we DESIGN\, PRODUCE\, INSTALL & DISMANTLE turnkey booth rentals. We cater to all your needs\, helping you create an exceptional exhibition space that includes concept design\, modular frames\, branded SEG graphics\, reception/storage areas\, and TV mounts. \nCustom Booth Models\nExplore our popular booth sizes that align with your exhibition goals: \n\n10×10 ft: Ideal for solo artists or small businesses looking to engage customers directly.\n10×20 ft: Perfect for brands wanting a more expanded presence\, allowing for storage and display of larger items.\n20×20 ft: Great for collaborative efforts\, showcasing multiple art forms and engaging with a larger crowd.\n\nCheck out our Snap Exhibitions Custom Booth Models or visit us for full-service exhibit support. To know more\, please contact our team. \nFAQ\n\nWhat can I expect at the WEST SHORE ART FAIR 2026 booth rental?At the WEST SHORE ART FAIR 2026\, you’ll connect with fellow artists and potential clients while showcasing your art in a vibrant environment.\nWhat are the event hours for WEST SHORE ART FAIR 2026?The event will take place from September 4–5\, 2026\, from 10:00 AM to 6:00 PM.\nWhat booth sizes are recommended for artists in the Art and Antiques sector?We suggest 10×10 ft for individual displays\, 10×20 ft for more space\, and 20×20 ft for collaborative exhibits.\nWhy is an aluminum booth better than wood?Aluminum booths are lighter\, more durable\, and easier to assemble/disassemble than wood\, making them ideal for travel.\nWhat services does Ludington offer for visitors?Ludington provides various attractions\, dining options\, and beautiful waterfront views that enhance visitor experience during the art fair.\nHow can SNAP EXHIBITIONS help make my booth perfect at the WEST SHORE ART FAIR 2026?We provide comprehensive turnkey booth solutions including design\, installation\, and logistics to ensure your booth stands out and showcases your artwork effectively.\nIs there an online site for the WEST SHORE ART FAIR 2026?Yes\, for more information\, please visit the official website.\n\nPlan ahead for the WEST SHORE ART FAIR 2026 booth rental to maximize your exhibition impact. To discuss your needs\, please contact our team today!
URL:https://ippe2026.com/event/west-shore-art-fair-2026/
CATEGORIES:Art and Antiques,Handicraft Products,Jewelry,Photography
END:VEVENT
END:VCALENDAR