BEGIN:VCALENDAR
VERSION:2.0
PRODID:-//IPPE 2026 Atlanta — Local Booth Builder &amp; Rentals - ECPv6.15.20//NONSGML v1.0//EN
CALSCALE:GREGORIAN
METHOD:PUBLISH
X-WR-CALNAME:IPPE 2026 Atlanta — Local Booth Builder &amp; Rentals
X-ORIGINAL-URL:https://ippe2026.com
X-WR-CALDESC:Events for IPPE 2026 Atlanta — Local Booth Builder &amp; Rentals
REFRESH-INTERVAL;VALUE=DURATION:PT1H
X-Robots-Tag:noindex
X-PUBLISHED-TTL:PT1H
BEGIN:VTIMEZONE
TZID:UTC
BEGIN:STANDARD
TZOFFSETFROM:+0000
TZOFFSETTO:+0000
TZNAME:UTC
DTSTART:20250101T000000
END:STANDARD
END:VTIMEZONE
BEGIN:VEVENT
DTSTART;TZID=UTC:20260712T090000
DTEND;TZID=UTC:20260715T235959
DTSTAMP:20260424T002555
CREATED:20251022T043700Z
LAST-MODIFIED:20251022T043700Z
UID:25928-1783846800-1784159999@ippe2026.com
SUMMARY:IFT ANNUAL MEETING & FOOD EXPO 2026
DESCRIPTION:IFT ANNUAL MEETING & FOOD EXPO 2026 booth rental — Premium Exhibitor Guide & Custom Booth Options\nAbout IFT ANNUAL MEETING & FOOD EXPO 2026\nVenue & Location\nChicago IL: Our Services\nCustom Booth Models\nFAQ\nIFT ANNUAL MEETING & FOOD EXPO 2026 — About the Event\nIFT ANNUAL MEETING & FOOD EXPO 2026 booth rental is your gateway to participating in one of the largest gatherings for the Food Processing Industries. This event attracts science of food professionals from across the globe representing diverse sectors\, including R&D\, Ingredients\, Safety & Quality\, Technology\, and Equipment. Attendees will gain unparalleled access to the latest advances in food science\, quality control\, and processing techniques. \nKey Details:\nDates: Apr 11–13\, 9:00 AM–5:00 PM\nLocation: McCormick Place Convention Center\, 2301 S. Lake Shore Drive\, Chicago\, Illinois\, USA\nFor more information\, visit IFT Event Website. \nIndustries & Audience: Food Processing Industries\, Packaging\, Catering & Hospitality Industries. \nVenue & Location\nThe event will be hosted at the McCormick Place Convention Center\, located at 2301 S. Lake Shore Drive in Chicago\, Illinois. This venue is well-equipped for large-scale events and offers convenient access for exhibitors\, including move-in windows and dock access. \nChicago IL: Our Services\nIn Chicago IL\, we DESIGN\, PRODUCE\, INSTALL & DISMANTLE turnkey booth rentals. Our offerings include concept/design development\, modular frames\, branded SEG graphics\, reception/storage solutions\, TV mounts\, and professional on-site installation and dismantling services to create an impactful experience at IFT ANNUAL MEETING & FOOD EXPO 2026. \nCustom Booth Models\nWe cater to a range of popular booth sizes such as 10×10\, 10×20\, and 20×20. Each footprint is designed to suit the needs of exhibitors in the food processing sectors: \n\nSnap Exhibitions Custom Booth Models – Ideal for maximizing visibility.\n10×10 – Perfect for small\, impactful displays.\n10×20 – Offers more space for products and interactions.\n20×20 – Great for larger products and attracting more foot traffic.\n\nAll of these designs enhance your presence at industry events. \nFor full-service exhibit support\, we manage everything from initial design to final setup\, ensuring your exhibit stands out! \nFAQ\nQ: What is IFT ANNUAL MEETING & FOOD EXPO 2026 booth rental?\nA: It allows exhibitors to showcase their innovations and engage with a significant audience in the food processing industry. \nQ: What are the event hours and dates?\nA: The event is from April 11–13\, 2026\, from 9:00 AM to 5:00 PM. \nQ: What booth sizes are recommended for the Food Processing Industries?\nA: Booth sizes like 10×10 and 10×20 are ideal for showcasing products while maximizing engagement with attendees. \nQ: Why is an aluminium booth better than wood?\nA: Aluminium booths are lighter\, more durable\, and offer better customization options compared to wood. \nQ: What attractions are there near Chicago?\nA: Visitors can explore numerous dining options\, cultural landmarks\, and beautiful parks in Chicago. \nQ: How can SNAP EXHIBITIONS help me make my booth perfect?\nA: We provide comprehensive services\, from design to dismantling\, ensuring a seamless exhibition experience. \nJoin us at the IFT ANNUAL MEETING & FOOD EXPO 2026 booth rental for a premium exhibiting experience. For more information\, contact our team.
URL:https://ippe2026.com/event/ift-annual-meeting-food-expo-2026/
CATEGORIES:Catering & Hospitality Industries,Food Processing Industries,Packaging
END:VEVENT
END:VCALENDAR