BEGIN:VCALENDAR
VERSION:2.0
PRODID:-//IPPE 2026 Atlanta — Local Booth Builder &amp; Rentals - ECPv6.15.20//NONSGML v1.0//EN
CALSCALE:GREGORIAN
METHOD:PUBLISH
X-WR-CALNAME:IPPE 2026 Atlanta — Local Booth Builder &amp; Rentals
X-ORIGINAL-URL:https://ippe2026.com
X-WR-CALDESC:Events for IPPE 2026 Atlanta — Local Booth Builder &amp; Rentals
REFRESH-INTERVAL;VALUE=DURATION:PT1H
X-Robots-Tag:noindex
X-PUBLISHED-TTL:PT1H
BEGIN:VTIMEZONE
TZID:UTC
BEGIN:STANDARD
TZOFFSETFROM:+0000
TZOFFSETTO:+0000
TZNAME:UTC
DTSTART:20250101T000000
END:STANDARD
END:VTIMEZONE
BEGIN:VEVENT
DTSTART;TZID=UTC:20260714T090000
DTEND;TZID=UTC:20260717T235959
DTSTAMP:20260424T002517
CREATED:20251022T052413Z
LAST-MODIFIED:20251022T052413Z
UID:26075-1784019600-1784332799@ippe2026.com
SUMMARY:ICAST 2026
DESCRIPTION:ICAST 2026 booth rental — Ultimate Exhibitor Guide & Custom Booth Options\nAbout ICAST 2026\nVenue & Location\nOrlando\, FL: Our Services\nCustom Booth Models\nFAQ\n\nICAST 2026 booth rental will position your brand at the forefront of the hunting and fishing industry. This premier exhibition\, taking place from Jan 15–17\, 2026\, at the Orange County Convention Center in Orlando\, Florida\, will attract manufacturers and dealers eager to reveal their latest product innovations. Whether you’re an established brand seeking to showcase your offerings or a newcomer wanting to make a significant impact\, this is the perfect platform to connect with a targeted audience. \nKey Details: \nDate: Jan 15–17\, 2026\nLocation: Orange County Convention Center\, 9800 International Drive\, Orlando\, FL 32819\, United States\nWebsite: ICAST Official Website\n\nJoin us for ICAST 2026 and immerse yourself in a community of professionals dedicated to fueling the passions of anglers through innovation and industry-leading products. The audience includes key players in the Hunting & Fishing\, Sports sectors. \n\n\nThe event will be hosted at the Orange County Convention Center\, located at 9800 International Drive\, Orlando\, FL\, United States. This venue offers excellent logistics for exhibitors\, including dock access and ample space for product showcase and demonstrations. \nFor any inquiries\, you may contact the venue directly. \n\n\nIn Orlando\, FL\, we DESIGN\, PRODUCE\, INSTALL & DISMANTLE turnkey booth rentals. Our services encompass concept creation\, modular frame construction\, branded SEG graphics\, reception areas\, storage solutions\, TV mounts\, and on-site installation and dismantling. \n\n\nWe offer various popular booth footprints\, including: \n\n10×10 — Ideal for small exhibitors looking to make a compact but impactful presence.\n10×20 — Perfect for brands wanting to engage and offer expanded product displays.\n20×20 — Best suited for larger brands needing more space to showcase their innovations effectively.\n\nFor more options\, check out our Snap Exhibitions Custom Booth Models for tailored designs. Benefit from our full-service exhibit support for seamless project execution. If you’re ready to elevate your presence\, contact our team today! \n\n\nFAQ\n\nWhat are the ICAST 2026 booth rental options available?\nWhen does ICAST 2026 take place? ICAST 2026 will be held from Jan 15–17\, 2026\, from 9:00 AM to 5:00 PM.\nWhat booth sizes are recommended for the Hunting & Fishing sector? Popular sizes include 10×10 for small setups\, and larger brands may benefit from 20×20 options.\nWhy is an aluminum booth better than a wood one? Aluminum booths are lighter\, more durable\, and provide more design flexibility\, making them a better choice for trade shows.\nWhat services do we provide in Orlando for ICAST 2026? We offer comprehensive support\, including installation and design of your booth rental.\nHow can IAST 2026 benefit my company? This event is a premier opportunity to showcase your innovations to a focused audience in the fishing and sports industries.\n\n\nICAST 2026 booth rental is your chance to showcase your brand effectively at this vital industry event. For seamless execution of your exhibition needs\, we encourage you to contact Snap Exhibitions today!
URL:https://ippe2026.com/event/icast-2026/
CATEGORIES:Hunting & Fishing,Sports
END:VEVENT
END:VCALENDAR