BEGIN:VCALENDAR
VERSION:2.0
PRODID:-//IPPE 2026 Atlanta — Local Booth Builder &amp; Rentals - ECPv6.15.20//NONSGML v1.0//EN
CALSCALE:GREGORIAN
METHOD:PUBLISH
X-WR-CALNAME:IPPE 2026 Atlanta — Local Booth Builder &amp; Rentals
X-ORIGINAL-URL:https://ippe2026.com
X-WR-CALDESC:Events for IPPE 2026 Atlanta — Local Booth Builder &amp; Rentals
REFRESH-INTERVAL;VALUE=DURATION:PT1H
X-Robots-Tag:noindex
X-PUBLISHED-TTL:PT1H
BEGIN:VTIMEZONE
TZID:UTC
BEGIN:STANDARD
TZOFFSETFROM:+0000
TZOFFSETTO:+0000
TZNAME:UTC
DTSTART:20250101T000000
END:STANDARD
END:VTIMEZONE
BEGIN:VEVENT
DTSTART;TZID=UTC:20260813T090000
DTEND;TZID=UTC:20260814T235959
DTSTAMP:20260424T015320
CREATED:20251022T054729Z
LAST-MODIFIED:20251022T054729Z
UID:26114-1786611600-1786751999@ippe2026.com
SUMMARY:RE+ MID-ATLANTIC 2026
DESCRIPTION:RE+ MID-ATLANTIC 2026 booth rental — Essential Options\nAbout RE+ MID-ATLANTIC 2026\nVenue & Location\nPhiladelphia PA: Our Services\nCustom Booth Models\nFAQ\nAbout RE+ MID-ATLANTIC 2026\nRE+ MID-ATLANTIC 2026 booth rental provides unparalleled opportunities for exhibitors looking to connect with audience in the Clean Energies sector. This event attracts energy professionals from across the solar and storage markets each year to facilitate business connections and insightful discussions. Attendees will gain access to the latest advancements in renewable energies\, transportation\, and environmental protection. \nKey Details: April 14–16\, 2026\, 9:00 AM–5:00 PM\, Pennsylvania Convention Center\, 1101 Arch Street\, Philadelphia\, PA 19107\, United States. For more information\, visit RE+ MID-ATLANTIC 2026 website. \nIndustries & Audience: Clean Energies – Renewable Energies\, Energy Production & Transportation\, Environmental Protection\, Investors. \nVenue & Location\nThe event takes place at the Pennsylvania Convention Center\, located at 1101 Arch Street\, Philadelphia\, PA 19107\, United States. The venue offers convenient access for exhibitors\, including varied move-in windows and dock access. \nPhiladelphia PA: Our Services\nIn Philadelphia PA\, we DESIGN\, PRODUCE\, INSTALL & DISMANTLE turnkey booth rentals. Our services cover every aspect of your booth needs\, including concept design\, modular frames\, branded SEG graphics\, reception/storage areas\, and TV mounts\, ensuring a seamless experience during RE+ MID-ATLANTIC 2026. \nCustom Booth Models\nAt Snap Exhibitions\, we offer a variety of booth rental options that cater to different needs. Some popular booth models include: \n\n10×10 Booths: Ideal for first-time exhibitors or small businesses looking to make an impact without overwhelming their space.\n10×20 Booths: These provide an excellent balance between visibility and space\, perfect for brands wanting to showcase multiple products or services.\n20×20 Booths: Suitable for larger companies or organizations participating in the Clean Energies sector\, offering ample space for demonstrations and interactive displays.\n\nFor more information\, visit our Snap Exhibitions Custom Booth Models page or learn about our full-service exhibit support. \nFAQ\nQ: What is RE+ MID-ATLANTIC 2026 booth rental?A: It’s our tailored rental service designed for exhibitors attending the RE+ MID-ATLANTIC 2026 event\, offering customizable booth options for maximum impact. \nQ: What are the event dates and hours for RE+ MID-ATLANTIC 2026?A: The event runs from April 14 to 16\, 2026\, from 9:00 AM to 5:00 PM each day. \nQ: What booth sizes do you recommend for the Clean Energies sector?A: We typically recommend 10×20 or larger booths for businesses in this sector to adequately showcase their innovations. \nQ: Why is an aluminum booth better than wood?A: Aluminum booths are lighter\, more durable\, and offer a modern look compared to traditional wood booths\, making them easier to transport and set up. \nQ: How does Philadelphia support exhibitors during events like RE+ MID-ATLANTIC?A: Philadelphia provides excellent logistics and booth setup opportunities\, ensuring a smooth experience for exhibitors. \nQ: How can Snap Exhibitions help make everything perfect about my booth?A: We offer comprehensive support from design to installation\, ensuring your booth is visually stunning and functionally adept. \nFor your RE+ MID-ATLANTIC 2026 booth rental\, let’s connect! Contact our team for specialized assistance: Contact us.
URL:https://ippe2026.com/event/re-mid-atlantic-2026/
CATEGORIES:Clean Energies - Renewable Energies,Energy Production & Transportation,Environmental Protection,Investors
END:VEVENT
END:VCALENDAR