BEGIN:VCALENDAR
VERSION:2.0
PRODID:-//IPPE 2026 Atlanta — Local Booth Builder &amp; Rentals - ECPv6.15.20//NONSGML v1.0//EN
CALSCALE:GREGORIAN
METHOD:PUBLISH
X-WR-CALNAME:IPPE 2026 Atlanta — Local Booth Builder &amp; Rentals
X-ORIGINAL-URL:https://ippe2026.com
X-WR-CALDESC:Events for IPPE 2026 Atlanta — Local Booth Builder &amp; Rentals
REFRESH-INTERVAL;VALUE=DURATION:PT1H
X-Robots-Tag:noindex
X-PUBLISHED-TTL:PT1H
BEGIN:VTIMEZONE
TZID:UTC
BEGIN:STANDARD
TZOFFSETFROM:+0000
TZOFFSETTO:+0000
TZNAME:UTC
DTSTART:20250101T000000
END:STANDARD
END:VTIMEZONE
BEGIN:VEVENT
DTSTART;TZID=UTC:20260914T090000
DTEND;TZID=UTC:20260919T235959
DTSTAMP:20260424T032637
CREATED:20251022T043815Z
LAST-MODIFIED:20251022T043815Z
UID:25932-1789376400-1789862399@ippe2026.com
SUMMARY:IMTS 2026
DESCRIPTION:IMTS 2026 Booth Rental — Essential Solutions for Exhibitors\nAbout IMTS 2026\nIMTS 2026 booth rental offers a prime opportunity for exhibitors in the Machines-tools\, Robotics\, Metal Working\, and other high-tech industries to showcase their innovations. This event is crucial for networking with over 82\,000 industrial decision-makers seeking solutions for their manufacturing challenges. Join us between September 12–17\, 2026 at McCormick Place Convention Center\, 2301 S. Lake Shore Drive\, Chicago\, Illinois\, USA. For more details\, visit the IMTS website. \n\nKey Details:\nDates: September 12–17\, 2026\nLocation: McCormick Place Convention Center\, 2301 S. Lake Shore Drive\, Chicago\, Illinois\, USA\nIndustry: Machines-tools\, Robotics\, Metal Working\, Rapid Prototyping\, Mould & Die\, Applied Computer & Industrial Engineering\, Real Time Systems & Embedded Systems\n\nVenue & Location\nIMTS 2026 will be held at the McCormick Place Convention Center\, a premier location in Chicago\, Illinois. We recommend planning for adequate move-in time and ensuring your booth setup complies with the venue’s guidelines\, especially for loading dock access. \nChicago: Our Services\nWe DESIGN\, PRODUCE\, INSTALL & DISMANTLE turnkey booth rentals in Chicago\, ensuring seamless execution from concept to completion. Our offerings include modular frames\, branded SEG graphics\, reception areas\, storage spaces\, TV mounts\, and more to meet your specific needs. \nCustom Booth Models\nOur Snap Exhibitions Custom Booth Models are designed to fit various footprints\, including 10×10\, 10×20\, and 20×20 spaces. Each footprint is tailored for different exhibitor needs\, allowing for a flexible display that attracts your target audience effectively. Whether you need an intimate setting or a larger space to showcase complex machinery\, we have options that serve a broad spectrum of attendees in the manufacturing industry. \nIn addition to our booth design\, we offer full-service exhibit support to handle every aspect of your exhibit experience. From construction to on-site set-up and dismantling\, we ensure everything runs smoothly. \nFAQ\n\nWhat is IMTS 2026 booth rental?\nIMTS 2026 booth rental provides companies with a dedicated space to showcase their products and services at the International Manufacturing Technology Show\, enabling effective engagement with industry professionals.\nWhat are the dates and hours for IMTS 2026?\nIMTS 2026 will occur from September 12 to 17\, 2026 from 9:00 AM to 5:00 PM daily.\nWhat booth sizes do you recommend for the Machines-tools category?\nWe suggest considering footprints of 10×20 or 20×20 for the Machines-tools sector\, as they provide ample space for showcasing machinery and accommodating potential clients effectively.\nWhy is an aluminum booth better than wood?\nAn aluminum booth is generally more lightweight and durable than wood\, allowing for easier transport and quicker assembly. Additionally\, aluminum offers a modern look that can enhance your exhibit’s aesthetic appeal.\nWhat can attendees expect at IMTS 2026?\nAttendees can expect to see the latest technology innovations\, attend informative presentations\, and network with decision-makers across the manufacturing industry.\nHow can SNAP EXHIBITIONS help make everything perfect about their booth?\nWe’re dedicated to providing comprehensive turnkey booth rentals that cover design\, installation\, and dismantling\, ensuring a stress-free experience for exhibitors.\n\nBy choosing IMTS 2026 booth rental\, you invest in a powerful platform to showcase your innovations to key industry stakeholders. Ready to stand out at IMTS 2026? Contact our team today!
URL:https://ippe2026.com/event/imts-2026/
CATEGORIES:Applied Computer & Industrial Engineering,Machines-tools - Tools,Metal Working Industries,Mould & Die,Rapid Prototyping & Additive Manufacturing,Real Time Systems & Embedded Systems,Robotics
END:VEVENT
BEGIN:VEVENT
DTSTART;TZID=UTC:20260915T090000
DTEND;TZID=UTC:20260917T235959
DTSTAMP:20260424T032637
CREATED:20251021T081153Z
LAST-MODIFIED:20251021T081153Z
UID:25733-1789462800-1789689599@ippe2026.com
SUMMARY:LABELEXPO AMERICAS 2026
DESCRIPTION:LABELEXPO AMERICAS 2026 booth rental — Ultimate Exhibitor Guide & Custom Booth Options\nAbout LABELEXPO AMERICAS 2026\nAt LABELEXPO AMERICAS 2026\, you will discover the best {TradeShowCity} booth rental options tailored for the label and package printing industry. This event serves as the largest gathering for professionals within the Packaging\, Printing\, Editing\, and Graphic Design sectors. Attendees and exhibitors will gain insights into the latest trends\, technologies\, and innovations\, ensuring they remain competitive in the ever-evolving market. \nKey Details:September 12–14\, 9:00 AM–5:00 PMDonald E. Stephens Convention Center\,5555 N. River Road\,Rosemont\, IL 60018\, United States.For more details\, visit LABELEXPO AMERICAS 2026. \nIndustries & Audience: Packaging\, Printing\, Editing\, Graphic Design\, Paper Industry\, Plastics\, Rubber\, Composites\, Marketing & Selling\, Public Relations & Advertising. \nVenue & Location\nThe event will take place at the Donald E. Stephens Convention Center\, located at 5555 N. River Road\, Rosemont\, IL\, USA. The venue is well-equipped and offers convenient logistical options for exhibitors\, including move-in windows and dock access for setup and teardown. \nRosemont IL: Our Services\nIn Rosemont\, IL\, we DESIGN\, PRODUCE\, INSTALL & DISMANTLE turnkey booth rentals\, catering specifically to LABELEXPO AMERICAS 2026. Our services include comprehensive concept and design\, modular frames\, branded SEG graphics\, reception/storage solutions\, TV mounts\, and efficient on-site installation and dismantle (I&D) tailored to every exhibitor’s needs. \nCustom Booth Models\nWe offer various booth footprints\, including 10×10\, 10×20\, and 20×20\, designed to suit the requirements of attendees across the listed industry sectors. Each footprint is crafted to maximize visibility and engagement\, ensuring that your exhibiting experience is impactful. \nExplore our Snap Exhibitions Custom Booth Models for innovative designs. Additionally\, we provide full-service exhibit support to facilitate every aspect of your exhibit. \nIf you’re ready to elevate your exhibition experience\, contact our team for a consultation! \nFAQ\nQ: What is LABELEXPO AMERICAS 2026 booth rental?A: LABELEXPO AMERICAS 2026 booth rental includes comprehensive solutions for exhibitors wanting to display their products and brand effectively at the event. \nQ: What are the event hours and dates?A: The event will take place from September 12–14\, 2026\, from 9:00 AM to 5:00 PM each day. \nQ: What booth sizes do you recommend for the Packaging industry?A: We recommend 10×20 or larger for effective visibility; however\, a 10×10 can be effective for smaller displays. \nQ: Why is an aluminum booth better than wood?A: Aluminum booths offer durability\, lighter weight\, and easier setup compared to traditional wood booths\, making them a more efficient choice for events. \nQ: What services does Snap Exhibitions offer in Rosemont?A: We provide complete turnkey booth rental solutions\, including design\, logistics\, and on-site assistance to ensure a hassle-free experience. \nQ: What other events does Snap Exhibitions participate in?A: We cover numerous trade shows and exhibitions across various industries\, tailoring our services to meet distinct event requirements. \nQ: How can Snap Exhibitions help me make everything perfect about my booth?A: We collaborate closely with you to ensure your vision is realized\, providing innovative design solutions\, exceptional materials\, and reliable installation services. \nTo explore how LABELEXPO AMERICAS 2026 booth rental can enhance your exhibiting experience\, we invite you to contact our team.
URL:https://ippe2026.com/event/labelexpo-americas-2026/
CATEGORIES:Composites,Editing,Graphic Design,Marketing & Selling,Packaging,Paper Industry,Plastics,Printing,Public Relations & Advertising,Rubber
END:VEVENT
END:VCALENDAR