BEGIN:VCALENDAR
VERSION:2.0
PRODID:-//IPPE 2026 Atlanta — Local Booth Builder &amp; Rentals - ECPv6.15.20//NONSGML v1.0//EN
CALSCALE:GREGORIAN
METHOD:PUBLISH
X-WR-CALNAME:IPPE 2026 Atlanta — Local Booth Builder &amp; Rentals
X-ORIGINAL-URL:https://ippe2026.com
X-WR-CALDESC:Events for IPPE 2026 Atlanta — Local Booth Builder &amp; Rentals
REFRESH-INTERVAL;VALUE=DURATION:PT1H
X-Robots-Tag:noindex
X-PUBLISHED-TTL:PT1H
BEGIN:VTIMEZONE
TZID:UTC
BEGIN:STANDARD
TZOFFSETFROM:+0000
TZOFFSETTO:+0000
TZNAME:UTC
DTSTART:20250101T000000
END:STANDARD
END:VTIMEZONE
BEGIN:VEVENT
DTSTART;TZID=UTC:20260302T090000
DTEND;TZID=UTC:20260304T235959
DTSTAMP:20260424T094953
CREATED:20251022T172816Z
LAST-MODIFIED:20251022T172816Z
UID:26129-1772442000-1772668799@ippe2026.com
SUMMARY:MEDTRADE CONFERENCE & EXPO 2026
DESCRIPTION:MEDTRADE CONFERENCE & EXPO 2026 — Exhibitor Guide & Premium Options\nAbout MEDTRADE CONFERENCE & EXPO 2026\nMEDTRADE CONFERENCE & EXPO 2026 booth rental is your gateway to success at this premier trade show. This event gathers health professionals\, equipment manufacturers\, and technologies for medical and surgery\, alongside nursing and elderly care representatives. Visitors benefit from networking\, learning about innovative products\, and discovering the latest in home medical equipment. \nKey Details: Sep 2–4\, 9:00 AM–5:00 PM\, Phoenix Convention Center\, 100 N. 3rd Street\, Phoenix\, Arizona 85004\, United States. \nIndustry & Audience: Health Professionals\, Equipments & Technologies for Medical and Surgery\, Nursing & Elderly Care. \nVenue & Location\nThe event will be hosted at the Phoenix Convention Center\, located at 100 N. 3rd Street\, Phoenix\, Arizona\, USA. The venue offers optimal logistics with central access to local accommodations\, and services suitable for trade shows. \nPhoenix: Our Services\nIn Phoenix\, we DESIGN\, PRODUCE\, INSTALL & DISMANTLE turnkey booth rentals. Our scope includes concept design\, modular frames\, branded SEG graphics\, reception/storage solutions\, and TV mounts\, alongside on-site installation and dismantling services. \nCustom Booth Models\nWe offer various popular booth footprints such as 10×10\, 10×20\, and 20×20 that cater to the needs of exhibitors across the health and medical industry sectors. For high engagement\, our Snap Exhibitions Custom Booth Models are well-suited to attract your audience effectively. As a reminder\, we provide full-service exhibit support to ensure a seamless experience. If you’re considering exceptional support\, feel free to contact our team. \nFAQ\n1. What is included with MEDTRADE CONFERENCE & EXPO 2026 booth rental?Our booth rental includes everything you need for a successful presence\, including design\, installation\, and dismantle services. \n2. When is the MEDTRADE CONFERENCE & EXPO 2026?The event runs from Sep 2–4\, 9:00 AM–5:00 PM each day. \n3. What booth sizes do you recommend for Health Professionals?We suggest considering a 10×20 or 20×20 footprint for better visibility and engagement. \n4. Why is an aluminum booth better than wood?Aluminum booths are lighter\, more adaptable\, and often more cost-efficient compared to traditional wood structures. \n5. How can we optimize our presence at the MEDTRADE CONFERENCE & EXPO 2026?We recommend a customized booth that fits your brand narrative and appeals to the audience. \n6. What services do you provide in Phoenix?We offer comprehensive booth rental services\, including design and on-site support tailored for trade shows. \n7. How can SNAP EXHIBITIONS help make everything perfect about our booth?Our team handles everything from design to execution\, ensuring your booth stands out and efficiently meets your exhibit goals. \nTo explore MEDTRADE CONFERENCE & EXPO 2026 booth rental and elevate your trade show experience\, be sure to contact our team today!
URL:https://ippe2026.com/event/medtrade-conference-expo-2026/
CATEGORIES:Equipments & Technologies for Medical and Surgery,Health Professionals,Nursing & Elderly Care
END:VEVENT
END:VCALENDAR