BEGIN:VCALENDAR
VERSION:2.0
PRODID:-//IPPE 2026 Atlanta — Local Booth Builder &amp; Rentals - ECPv6.15.20//NONSGML v1.0//EN
CALSCALE:GREGORIAN
METHOD:PUBLISH
X-ORIGINAL-URL:https://ippe2026.com
X-WR-CALDESC:Events for IPPE 2026 Atlanta — Local Booth Builder &amp; Rentals
REFRESH-INTERVAL;VALUE=DURATION:PT1H
X-Robots-Tag:noindex
X-PUBLISHED-TTL:PT1H
BEGIN:VTIMEZONE
TZID:UTC
BEGIN:STANDARD
TZOFFSETFROM:+0000
TZOFFSETTO:+0000
TZNAME:UTC
DTSTART:20250101T000000
END:STANDARD
END:VTIMEZONE
BEGIN:VEVENT
DTSTART;TZID=UTC:20260621T090000
DTEND;TZID=UTC:20260624T235959
DTSTAMP:20260424T003550
CREATED:20251021T174602Z
LAST-MODIFIED:20251021T174602Z
UID:25826-1782032400-1782345599@ippe2026.com
SUMMARY:A&WMA CONFERENCE & EXHIBITION 2026
DESCRIPTION:A&WMA CONFERENCE & EXHIBITION 2026 — Exhibitor Guide & Premium Options\nAbout A&WMA CONFERENCE & EXHIBITION 2026\nVenue & Location\nAustin TX: Our Services\nCustom Booth Models\nFAQ\nA&WMA CONFERENCE & EXHIBITION 2026\nA&WMA CONFERENCE & EXHIBITION 2026 booth rental is essential for exhibitors looking to connect within the Water Management and Treatment\, Waste Management – Recycling\, Environmental Protection\, and Clean Energies – Renewable Energies sectors. At this premier event hosted by the Air & Waste Management Association\, attendees will enhance their knowledge and expand their networks with environmental professionals from across the globe. \nKey Details:\nSep 18–20\, 9:00 AM–5:00 PM\nJW Marriott\, Austin\, 110 E 2nd St\, Austin\, TX 78701\, United States\nVisit the Event Website \nIndustries & Audience: Water Management and Treatment\, Waste Management – Recycling\, Environmental Protection\, Clean Energies – Renewable Energies. \nVenue & Location\nThe A&WMA CONFERENCE & EXHIBITION 2026 will take place at the JW Marriott\, located at 110 E 2nd St\, Austin\, TX 78701\, United States. The venue offers ample space for move-in and ensures smooth logistics for exhibitors. Note that dock access is generally available for ease in setup and dismantling. \nAustin TX: Our Services\nIn Austin TX\, we DESIGN\, PRODUCE\, INSTALL & DISMANTLE turnkey booth rentals. Our scope includes concept and design\, modular frames\, branded SEG graphics\, reception and storage areas\, TV mounts\, and on-site installation and dismantling (I&D). We ensure that your booth looks professional and attracts visitors\, making your experience at the A&WMA CONFERENCE & EXHIBITION seamless and impactful. \nCustom Booth Models\nWe offer a selection of popular booth sizes to suit every exhibitor’s needs: 10×10\, 10×20\, and 20×20. These footprints are designed to fit the diverse needs of attendees in the environmental industries sectors. Your Snap Exhibitions Custom Booth Models are fully customizable\, ensuring your presence stands out. We also provide full-service exhibit support for every detail you require. \nTo ensure your exhibition is perfect\, feel free to contact our team for assistance. \nFAQ\nWhat is A&WMA CONFERENCE & EXHIBITION 2026 booth rental?It refers to the rental of designed spaces where exhibitors can showcase their products and connect with attendees during the event. \nWhen are the event hours for A&WMA CONFERENCE & EXHIBITION 2026?The event runs from Sep 18 to Sep 20\, with hours from 9:00 AM to 5:00 PM. \nWhat booth sizes do you recommend for the environmental sectors?We suggest 10×10 or 10×20 for smaller presentations and 20×20 for larger engagements. \nWhy is an aluminum booth better than wood?Aluminum is lighter\, more durable\, and can be reused effectively\, making it a more eco-friendly choice. \nWhat can you tell me about Austin\, Texas?Austin is known for its vibrant tech scene and environmental initiatives\, making it a perfect backdrop for the A&WMA conference. \nWhat is the A&WMA CONFERENCE & EXHIBITION 2026?It’s the premier conference focused on environmental solutions\, networking\, and education. \nHow can SNAP EXHIBITIONS help ensure everything is perfect for my booth?We offer comprehensive support from design to installation and dismantling to make your exhibit seamless. \nConsider utilizing A&WMA CONFERENCE & EXHIBITION 2026 booth rental options to make your presence felt in Austin! Our services will ensure a flawless and impactful exhibition experience. For more information\, please contact our team.
URL:https://ippe2026.com/event/awma-conference-exhibition-2026/
CATEGORIES:Clean Energies - Renewable Energies,Environmental Protection,Waste Management - Recycling,Water Management and Treatment
END:VEVENT
BEGIN:VEVENT
DTSTART;TZID=UTC:20260804T090000
DTEND;TZID=UTC:20260806T235959
DTSTAMP:20260424T003550
CREATED:20251022T174024Z
LAST-MODIFIED:20251022T174024Z
UID:26150-1785834000-1786060799@ippe2026.com
SUMMARY:TECHTEXTIL NORTH AMERICA '2026
DESCRIPTION:TECHTEXTIL NORTH AMERICA ‘2026’ booth rental — Premium Exhibitor Guide & Custom Booth Options\nAbout TECHTEXTIL NORTH AMERICA ‘2026’\nTECHTEXTIL NORTH AMERICA ‘2026’ booth rental is essential for exhibitors in the technical textiles industry looking to make impactful connections. This event showcases all vertical aspects of the industry: from research and development\, through raw materials and production processes\, concluding with conversion\, further treatment\, and recycling. Attendees will have the chance to access valuable insights and innovations in Technical Textiles\, Advanced Materials\, Waste Management – Recycling.\nKey Details: April 8–10\, 2026\, Raleigh\, NC\, USA. \nIndustries & Audience: Technical Textiles\, Advanced Materials\, Waste Management – Recycling. \nVenue & Location\nThe event will take place in Raleigh\, NC\, at the aforementioned venue. Useful logistics include move-in windows and dock access to facilitate a smooth setup. If you need to reach out\, feel free to call. \nRaleigh NC: Our Services\nWe DESIGN\, PRODUCE\, INSTALL & DISMANTLE turnkey booth rentals in Raleigh\, NC. Our offerings include concept/design\, modular frames\, branded SEG graphics\, reception/storage\, TV mount\, and on-site installation & dismantling. This ensures that your presence at TECHTEXTIL NORTH AMERICA ‘2026’ is seamless and impactful. \nCustom Booth Models\nFor this event\, we provide a range of popular footprints suitable for your exhibitor needs\, such as 10×10\, 10×20\, and 20×20 models. Each design is tailored to effectively fit the demands of the Technical Textiles\, Advanced Materials\, Waste Management – Recycling sector. Explore our Snap Exhibitions Custom Booth Models for inspiration. We also offer full-service exhibit support to handle all aspects of your booth\, making it a stress-free experience. If you have questions or need assistance\, contact our team. \nFAQ\n\nWhat can I gain from a TECHTEXTIL NORTH AMERICA ‘2026’ booth rental?Your booth rental will help you establish vital connections\, showcase your innovations\, and engage with industry experts.\nWhat are the event hours for TECHTEXTIL NORTH AMERICA ‘2026’?The event runs from April 8 to April 10\, 2026. Specific hours will be announced closer to the event.\nWhat recommended booth sizes are best for Technical Textiles?For the Technical Textiles sector\, a 10×20 booth is popular\, providing ample space to creatively showcase products without overwhelming the visitor.\nWhy is an aluminum booth better than wood?Aluminum booths are lighter\, more durable\, and offer modern aesthetics compared to traditional wood structures. They also allow for greater design flexibility.\nWhat can I do in Raleigh while attending TECHTEXTIL NORTH AMERICA ‘2026’?Raleigh offers vibrant dining and entertainment options perfect for relaxing after a day at the show.\nHow can SNAP EXHIBITIONS ensure my booth is perfect for the event?We provide comprehensive support\, tailored designs\, and full setup services to make your booth at TECHTEXTIL NORTH AMERICA ‘2026’ a success.\n\nIn conclusion\, securing a TECHTEXTIL NORTH AMERICA ‘2026’ booth rental is the key to a successful participation. We invite you to contact us today for a streamlined booth experience!
URL:https://ippe2026.com/event/techtextil-north-america-2026/
CATEGORIES:Advanced Materials,Technical Textiles,Waste Management - Recycling
END:VEVENT
BEGIN:VEVENT
DTSTART;TZID=UTC:20270503T090000
DTEND;TZID=UTC:20270506T235959
DTSTAMP:20260424T003550
CREATED:20251021T180904Z
LAST-MODIFIED:20251021T180904Z
UID:25860-1809334800-1809647999@ippe2026.com
SUMMARY:WASTE EXPO 2027
DESCRIPTION:WASTE EXPO 2027 booth rental — Premium Exhibitor Guide & Custom Booth Options\nAbout WASTE EXPO 2027\nVenue & Location\nLas Vegas NV: Our Services\nCustom Booth Models\nFAQ\nWelcome to WASTE EXPO 2027 booth rental\, the premier event for the waste and recycling market! Taking place at the Las Vegas Convention Center\, WASTE EXPO attracts leading decision-makers from the private and public sectors\, including municipalities and waste processing organizations. Exhibiting here gives you the chance to network with key players in the industry\, showcase your innovations\, and enhance your business visibility. \nKey Details:April 11–13\, 9:00 AM–5:00 PMLas Vegas Convention Center\,3150 Paradise Road\, Las Vegas\, NV 89109\, United States. \nIndustries & Audience: Waste Management – Recycling\, Environmental Protection\, Urban Equipment & Engineering\, Subcontracting\, Suppliers & Partners. \nWASTE EXPO 2027 booth rental Solutions\nAt WASTE EXPO 2027\, our booth rental services aim to fulfill exhibitor goals. Whether you are looking to maximize your brand visibility or attract new clients\, we provide tailored booth solutions that meet diverse needs. Our team of experts will work closely with you to conceptualize a stunning display that captures attention and effectively communicates your message. \n#venue\nThe venue for this year’s WASTE EXPO is the Las Vegas Convention Center\, located at 3150 Paradise Road\, Las Vegas\, NV 89109\, United States. This location provides excellent logistics\, including ample dock access for smooth move-in and move-out procedures. If you have any inquiries\, feel free to reach us via phone. \n#city-services\nIn Las Vegas NV\, we DESIGN\, PRODUCE\, INSTALL & DISMANTLE turnkey booth rentals. Our comprehensive services include concept design\, modular frames\, branded SEG graphics\, reception/storage setups\, and on-site installation and dismantling support. Our aim is to ensure you have a hassle-free experience and a successful showing at the expo. \n#booth-models\nExplore our Snap Exhibitions Custom Booth Models\, including popular footprints like 10×10\, 10×20\, and 20×20. Each footprint is designed to accommodate businesses in the waste management and environmental sectors effectively\, providing options that cater to different engagement strategies. Our full-service exhibit support ensures that every aspect of your booth is meticulously planned and executed. \n#faq\nQ1: What is WASTE EXPO 2027 booth rental?A1: WASTE EXPO 2027 booth rental is an opportunity for exhibitors at the WASTE EXPO to secure custom booth designs that highlight their brand and increase visibility. \nQ2: What are the event hours for WASTE EXPO 2027?A2: The event runs from April 11 to April 13\, from 9:00 AM to 5:00 PM. \nQ3: What booth sizes are recommended for Waste Management sectors?A3: Popular choices include 10×10 for small displays and 10×20 or 20×20 for larger-scale engagements that require more space for interactive components. \nQ4: Why is an aluminum booth better than wood?A4: Aluminum booths are lightweight\, easy to assemble and disassemble\, and offer a sleek\, modern look\, contrasting with heavier and less adaptable wood structures. \nQ5: What can we do in Las Vegas during WASTE EXPO?A5: Las Vegas offers a vibrant nightlife\, dining events\, and other entertainment opportunities for you to unwind after the event. \nQ6: How can Snap Exhibitions help make everything perfect about our booth?A6: We handle all aspects of your booth setup. To discuss how we can customize your experience\, contact our team for more information! \nAs your premier choice for WASTE EXPO 2027 booth rental\, we invite you to contact our team today for a seamless exhibition experience!
URL:https://ippe2026.com/event/waste-expo-2027/
CATEGORIES:Environmental Protection,Subcontracting,Suppliers & Partners,Urban Equipment & Engineering,Waste Management - Recycling
END:VEVENT
END:VCALENDAR