BEGIN:VCALENDAR
VERSION:2.0
PRODID:-//IPPE 2026 Atlanta — Local Booth Builder &amp; Rentals - ECPv6.15.20//NONSGML v1.0//EN
CALSCALE:GREGORIAN
METHOD:PUBLISH
X-ORIGINAL-URL:https://ippe2026.com
X-WR-CALDESC:Events for IPPE 2026 Atlanta — Local Booth Builder &amp; Rentals
REFRESH-INTERVAL;VALUE=DURATION:PT1H
X-Robots-Tag:noindex
X-PUBLISHED-TTL:PT1H
BEGIN:VTIMEZONE
TZID:UTC
BEGIN:STANDARD
TZOFFSETFROM:+0000
TZOFFSETTO:+0000
TZNAME:UTC
DTSTART:20250101T000000
END:STANDARD
END:VTIMEZONE
BEGIN:VEVENT
DTSTART;TZID=UTC:20261004T090000
DTEND;TZID=UTC:20261007T235959
DTSTAMP:20260424T033039
CREATED:20251022T043505Z
LAST-MODIFIED:20251022T043505Z
UID:25922-1791104400-1791417599@ippe2026.com
SUMMARY:APTA EXPO 2026
DESCRIPTION:APTA EXPO 2026 booth rental — Premium Exhibitor Guide & Custom Booth Options\nAbout APTA EXPO 2026\nAPTA EXPO 2026 booth rental is your gateway to entering the world of public transportation’s leading showcase. This event attracts professionals from the Trucks and Utility Vehicles\, Railways Engineering\, Logistics & Transportation Engineering – Handling Operations – Storage\, Urban Equipment & Engineering\, Roads\, Bridges & Tunnels sectors. Exhibitors can gain access to unmatched networking\, cutting-edge technology displays\, and solutions that drive innovation in the transportation industry. Whether you want to unveil a new product or reinforce existing partnerships\, APTA EXPO 2026 offers significant opportunities for enhancing your market presence. \nKey Details: September 12–14\, 9:00 AM–5:00 PM McCormick Place Convention Center\, 2301 S. Lake Shore Drive\, Chicago\, IL 60616\, USA \nVenue & Location\nThe event will be held at McCormick Place Convention Center\, located at 2301 S. Lake Shore Drive\, Chicago\, IL 60616\, USA. This venue offers various logistics options\, including convenient move-in windows and dock access to facilitate booth setup. For inquiries\, please feel free to reach us via phone. \nChicago IL: Our Services\nIn Chicago\, we DESIGN\, PRODUCE\, INSTALL & DISMANTLE turnkey booth rentals. We provide comprehensive services that include concept design\, modular frames\, branded SEG graphics\, storage facilities\, and TV mounts\, ensuring that your exhibition experience is seamless and stress-free. \nCustom Booth Models\nWe offer a variety of booth sizes\, such as 10×10\, 10×20\, and 20×20 configurations\, tailored to fit the needs of exhibitors in the transportation sectors. These layouts facilitate effective product displays and engaging interactions with attendees. For more options\, check out our Snap Exhibitions Custom Booth Models. Our full-service exhibit support ensures every aspect of your booth is meticulously managed. If you’re ready to elevate your exhibit\, contact our team today! \nFAQ\nQ: What services do you provide for APTA EXPO 2026 booth rental?A: We offer complete turnkey solutions including design\, setup\, and dismantling of custom booth rentals to meet your specific needs. \nQ: What are the hours for APTA EXPO 2026?A: The event runs from September 12–14\, 9:00 AM–5:00 PM each day. \nQ: What booth sizes are recommended for Trucks and Utility Vehicles exhibitors?A: Popular options include 10×10 and 10×20 booths\, providing ample space for your showcases while maximizing visibility. \nQ: Why are aluminum booths better than wood?A: Aluminum booths are generally lighter\, more durable\, and easier to assemble\, making them a practical choice for exhibitions. \nQ: What can I expect at APTA EXPO 2026?A: Expect cutting-edge technology\, networking opportunities\, and a vibrant showcase of industry innovations. \nQ: How can Snap Exhibitions help make everything perfect about my booth?A: We ensure all aspects\, from design to installation and support during the event\, are handled with precision for a flawless presentation. \nIn summary\, APTA EXPO 2026 booth rental provides exhibitors a unique chance to shine at this prestigious event. Our dedicated team will guide you through every step\, ensuring your exhibition is nothing short of extraordinary. To learn more about how we can assist you\, please contact our team today!
URL:https://ippe2026.com/event/apta-expo-2026/
CATEGORIES:Bridges & Tunnels,Logistics & Transportation Engineering - Handling Operations - Storage,Railways Engineering,Roads,Trucks and Utility Vehicles,Urban Equipment & Engineering
END:VEVENT
BEGIN:VEVENT
DTSTART;TZID=UTC:20261018T090000
DTEND;TZID=UTC:20261021T235959
DTSTAMP:20260424T033039
CREATED:20251022T043848Z
LAST-MODIFIED:20251022T043848Z
UID:25934-1792314000-1792627199@ippe2026.com
SUMMARY:PACK EXPO INTERNATIONAL - CHICAGO 2026
DESCRIPTION:PACk EXPO INTERNATIONAL – CHICAGO 2026 booth rental — Premium Exhibitor Guide & Custom Booth Options\nAbout PACK EXPO INTERNATIONAL – CHICAGO 2026\nPACK EXPO INTERNATIONAL – CHICAGO 2026 booth rental gives exhibitors the opportunity to showcase their brands at North America’s largest packaging and processing show. This event is a nexus for end users and suppliers worldwide\, offering a quality professional experience enriched with a diverse range of packaging innovations across all vertical markets. Participants will gain insights into the latest trends and technologies that drive the packaging industry forward. \nKey Details:\nDate: Feb 19–22\, 2026\, 9:00 AM–5:00 PM\nLocation: McCormick Place Convention Center\, 2301 S. Lake Shore Drive\, Chicago\, Illinois\, USA\nEvent Web: packexpointernational.com \nIndustries & Audience: Packaging\, Printing\, Editing\, Graphic Design\, Logistics & Transportation Engineering\, Food Processing\, Pharmaceuticals\, Cosmetology\, Paper Industry\, Plastics\, Rubber\, Composites \nVenue & Location\nThe PACK EXPO INTERNATIONAL – CHICAGO 2026 will be hosted at the McCormick Place Convention Center\, located at 2301 S. Lake Shore Drive\, Chicago\, Illinois\, USA. The center provides great logistics support such as convenient move-in windows and dock access for all exhibitors. Though we do not have a direct contact number available\, the venue is known for its comprehensive service offerings. \nChicago\, IL: Our Services\nWe DESIGN\, PRODUCE\, INSTALL & DISMANTLE turnkey booth rentals in Chicago\, IL. Our extensive scope includes concept development\, modular frames\, branded SEG graphics\, as well as reception and storage areas\, TV mounts\, and on-site installation and dismantling. \nCustom Booth Models\nOur Snap Exhibitions Custom Booth Models offer a range of popular footprints including 10×10\, 10×20\, and 20×20 spaces\, ideal for diverse needs in the packaging and processing sectors. These sizes provide a balance of visibility and functionality\, perfect for engaging with attendees. \nWe focus on delivering a full-service exhibit support to ensure your booth is both striking and effective. For more information or to discuss your specific needs\, contact our team. \nFAQ\nWhat is PACK EXPO INTERNATIONAL – CHICAGO 2026 booth rental?\nPACK EXPO INTERNATIONAL – CHICAGO 2026 booth rental allows exhibitors to present their innovations at a major industry event\, optimizing their outreach and impact. \nWhat are the event hours and dates?\nThe event will take place from Feb 19 to Feb 22\, 2026\, from 9:00 AM to 5:00 PM. \nWhat booth sizes are recommended for Packaging sector exhibitors?\n10×10 and 10×20 booth sizes are popular for this sector\, balancing the need for visibility with the available space. \nWhy is an aluminum booth better than a wooden booth?\nAluminum booths are generally lighter\, more durable\, and provide better design flexibility than wooden alternatives. \nWhat services does SNAP EXHIBITIONS offer in Chicago?\nWe provide comprehensive design\, production\, installation\, and dismantling services for exhibitor booths in Chicago. \nHow can I maximize my presence at PACK EXPO INTERNATIONAL – CHICAGO 2026?\nSelecting the right booth size and design\, alongside engaging displays\, will help create a memorable presence at the expo. \nHow can SNAP EXHIBITIONS help me perfect my booth?\nWe specialize in turnkey booth rentals\, ensuring every detail from design to installation is tailored to your needs. \nIn conclusion\, PACK EXPO INTERNATIONAL – CHICAGO 2026 booth rental offers exhibitors an excellent opportunity to connect with potential clients and showcase innovative products. Let us help you make the most out of your experience. Contact us today!
URL:https://ippe2026.com/event/pack-expo-international-chicago-2026/
CATEGORIES:Applied Computer & Industrial Engineering,Composites,Editing,Food Processing Industries,Graphic Design,Logistics & Transportation Engineering - Handling Operations - Storage,Packaging,Paper Industry,Pharmaceuticals & Cosmetology,Plastics,Printing,Rubber
END:VEVENT
BEGIN:VEVENT
DTSTART;TZID=UTC:20261028T090000
DTEND;TZID=UTC:20261029T235959
DTSTAMP:20260424T033039
CREATED:20251022T045339Z
LAST-MODIFIED:20251022T045339Z
UID:25981-1793178000-1793318399@ippe2026.com
SUMMARY:FILTREXPO 2026
DESCRIPTION:FILTREXPO 2026 booth rental — Essential Exhibitor Guide & Custom Booth Options\nAbout FILTREXPO 2026\nFILTREXPO 2026 booth rental is your ultimate solution for captivating exhibits at this leading event. Taking place at the Minneapolis Convention Center\, this international filtration and separation exhibition and technical conference brings together industry leaders and innovators from the Chemical Process\, Technical Textiles\, Advanced Materials sectors. Attendees will gain invaluable insights\, network with key players\, and explore the latest advancements in filtration technology. Key Details: September 25–27\, 2026\, 9:00 AM–5:00 PM\, Minneapolis Convention Center\, 1301 2nd Avenue South\, Minneapolis\, MN 55403\, USA. \nVenue & Location\nThe event will be held at the Minneapolis Convention Center\, located at 1301 2nd Avenue South\, Minneapolis\, MN 55403\, USA. This venue offers excellent logistics with ample access for exhibitors\, making it easy to set up your booth. It’s centrally located\, ensuring that your exhibition is easily accessible to attendees. You can reach the venue via the city’s public transport system. \nMinneapolis\, MN: Our Services\nIn Minneapolis\, we DESIGN\, PRODUCE\, INSTALL & DISMANTLE turnkey booth rentals. Our services include the complete spectrum from concept and design to modular frames\, branded SEG graphics\, reception\, storage options\, and on-site installation and dismantling solutions. Choosing us ensures your booth reflects your brand’s identity while meeting functional requirements. \nCustom Booth Models\nWe offer a range of popular booth footprints\, including 10×10\, 10×20\, and 20×20 options. These designs cater easily to the needs of the Chemical Process\, Technical Textiles\, Advanced Materials audiences. Our solutions are tailored to enhance visibility and engagement at FILTREXPO. \nFor a seamless experience\, consider our full-service exhibit support\, including logistics management and design consulting. Let us handle the details so you can focus on connecting with your audience. \nFAQ\n\nWhat is FILTREXPO 2026 booth rental?It’s our custom rental service to maximize your exhibition presence at FILTREXPO 2026.\nWhen will FILTREXPO 2026 take place?The event is scheduled from September 25 to 27\, 2026\, running from 9:00 AM to 5:00 PM.\nWhat booth sizes are recommended for the Chemical Process sector?We advise considering sizes such as 10×20 or 20×20 for optimal engagement.\nWhy is an aluminum booth better than wood?Aluminum booths are lighter\, more durable\, and easier to assemble than wooden structures\, making them ideal for exhibitions.\nWhat can I explore at FILTREXPO 2026 in Minneapolis?You can learn about the latest innovations in filtration technology and connect with industry experts.\nHow can SNAP EXHIBITIONS help me make everything perfect for my booth?We provide end-to-end support\, from design to installation\, ensuring your booth stands out and attracts attendees.\n\nFILTREXPO 2026 booth rental is key to transforming your exhibition presence into an impactful experience. Contact our team today to ensure your booth truly stands out at this premier event!
URL:https://ippe2026.com/event/filtrexpo-2026/
CATEGORIES:Advanced Materials,Chemical Process,Technical Textiles
END:VEVENT
END:VCALENDAR