BEGIN:VCALENDAR
VERSION:2.0
PRODID:-//IPPE 2026 Atlanta — Local Booth Builder &amp; Rentals - ECPv6.15.20//NONSGML v1.0//EN
CALSCALE:GREGORIAN
METHOD:PUBLISH
X-ORIGINAL-URL:https://ippe2026.com
X-WR-CALDESC:Events for IPPE 2026 Atlanta — Local Booth Builder &amp; Rentals
REFRESH-INTERVAL;VALUE=DURATION:PT1H
X-Robots-Tag:noindex
X-PUBLISHED-TTL:PT1H
BEGIN:VTIMEZONE
TZID:UTC
BEGIN:STANDARD
TZOFFSETFROM:+0000
TZOFFSETTO:+0000
TZNAME:UTC
DTSTART:20250101T000000
END:STANDARD
END:VTIMEZONE
BEGIN:VEVENT
DTSTART;TZID=UTC:20260621T090000
DTEND;TZID=UTC:20260624T235959
DTSTAMP:20260424T010103
CREATED:20251021T174602Z
LAST-MODIFIED:20251021T174602Z
UID:25826-1782032400-1782345599@ippe2026.com
SUMMARY:A&WMA CONFERENCE & EXHIBITION 2026
DESCRIPTION:A&WMA CONFERENCE & EXHIBITION 2026 — Exhibitor Guide & Premium Options\nAbout A&WMA CONFERENCE & EXHIBITION 2026\nVenue & Location\nAustin TX: Our Services\nCustom Booth Models\nFAQ\nA&WMA CONFERENCE & EXHIBITION 2026\nA&WMA CONFERENCE & EXHIBITION 2026 booth rental is essential for exhibitors looking to connect within the Water Management and Treatment\, Waste Management – Recycling\, Environmental Protection\, and Clean Energies – Renewable Energies sectors. At this premier event hosted by the Air & Waste Management Association\, attendees will enhance their knowledge and expand their networks with environmental professionals from across the globe. \nKey Details:\nSep 18–20\, 9:00 AM–5:00 PM\nJW Marriott\, Austin\, 110 E 2nd St\, Austin\, TX 78701\, United States\nVisit the Event Website \nIndustries & Audience: Water Management and Treatment\, Waste Management – Recycling\, Environmental Protection\, Clean Energies – Renewable Energies. \nVenue & Location\nThe A&WMA CONFERENCE & EXHIBITION 2026 will take place at the JW Marriott\, located at 110 E 2nd St\, Austin\, TX 78701\, United States. The venue offers ample space for move-in and ensures smooth logistics for exhibitors. Note that dock access is generally available for ease in setup and dismantling. \nAustin TX: Our Services\nIn Austin TX\, we DESIGN\, PRODUCE\, INSTALL & DISMANTLE turnkey booth rentals. Our scope includes concept and design\, modular frames\, branded SEG graphics\, reception and storage areas\, TV mounts\, and on-site installation and dismantling (I&D). We ensure that your booth looks professional and attracts visitors\, making your experience at the A&WMA CONFERENCE & EXHIBITION seamless and impactful. \nCustom Booth Models\nWe offer a selection of popular booth sizes to suit every exhibitor’s needs: 10×10\, 10×20\, and 20×20. These footprints are designed to fit the diverse needs of attendees in the environmental industries sectors. Your Snap Exhibitions Custom Booth Models are fully customizable\, ensuring your presence stands out. We also provide full-service exhibit support for every detail you require. \nTo ensure your exhibition is perfect\, feel free to contact our team for assistance. \nFAQ\nWhat is A&WMA CONFERENCE & EXHIBITION 2026 booth rental?It refers to the rental of designed spaces where exhibitors can showcase their products and connect with attendees during the event. \nWhen are the event hours for A&WMA CONFERENCE & EXHIBITION 2026?The event runs from Sep 18 to Sep 20\, with hours from 9:00 AM to 5:00 PM. \nWhat booth sizes do you recommend for the environmental sectors?We suggest 10×10 or 10×20 for smaller presentations and 20×20 for larger engagements. \nWhy is an aluminum booth better than wood?Aluminum is lighter\, more durable\, and can be reused effectively\, making it a more eco-friendly choice. \nWhat can you tell me about Austin\, Texas?Austin is known for its vibrant tech scene and environmental initiatives\, making it a perfect backdrop for the A&WMA conference. \nWhat is the A&WMA CONFERENCE & EXHIBITION 2026?It’s the premier conference focused on environmental solutions\, networking\, and education. \nHow can SNAP EXHIBITIONS help ensure everything is perfect for my booth?We offer comprehensive support from design to installation and dismantling to make your exhibit seamless. \nConsider utilizing A&WMA CONFERENCE & EXHIBITION 2026 booth rental options to make your presence felt in Austin! Our services will ensure a flawless and impactful exhibition experience. For more information\, please contact our team.
URL:https://ippe2026.com/event/awma-conference-exhibition-2026/
CATEGORIES:Clean Energies - Renewable Energies,Environmental Protection,Waste Management - Recycling,Water Management and Treatment
END:VEVENT
END:VCALENDAR