BEGIN:VCALENDAR
VERSION:2.0
PRODID:-//IPPE 2026 Atlanta — Local Booth Builder &amp; Rentals - ECPv6.15.20//NONSGML v1.0//EN
CALSCALE:GREGORIAN
METHOD:PUBLISH
X-WR-CALNAME:IPPE 2026 Atlanta — Local Booth Builder &amp; Rentals
X-ORIGINAL-URL:https://ippe2026.com
X-WR-CALDESC:Events for IPPE 2026 Atlanta — Local Booth Builder &amp; Rentals
REFRESH-INTERVAL;VALUE=DURATION:PT1H
X-Robots-Tag:noindex
X-PUBLISHED-TTL:PT1H
BEGIN:VTIMEZONE
TZID:UTC
BEGIN:STANDARD
TZOFFSETFROM:+0000
TZOFFSETTO:+0000
TZNAME:UTC
DTSTART:20250101T000000
END:STANDARD
END:VTIMEZONE
BEGIN:VEVENT
DTSTART;TZID=UTC:20260317T090000
DTEND;TZID=UTC:20260318T235959
DTSTAMP:20260424T095604
CREATED:20251021T075331Z
LAST-MODIFIED:20251021T075331Z
UID:25679-1773738000-1773878399@ippe2026.com
SUMMARY:AMERICAN MANUFACTURING SUMMIT 2026
DESCRIPTION:AMERICAN MANUFACTURING SUMMIT 2026 booth rental — Ultimate Exhibitor Guide & Custom Booth Options\nAbout AMERICAN MANUFACTURING SUMMIT 2026\nAt the AMERICAN MANUFACTURING SUMMIT 2026\, exhibitors and attendees come together to discuss crucial plant floor operations and manufacturing strategies. This summit is essential for professionals in the sectors of Applied Computer & Industrial Engineering\, Subcontracting\, Suppliers & Partners\, Industrial Controllers\, Decision Helping Tools & Management Services\, and Assembly and Handling Technology. Participants will gain insights\, network with industry leaders\, and explore innovative solutions that drive productivity and efficiency. \n\nKey Details: January 12–13\, 2026\, 9:00 AM–5:00 PM\nChicago Marriott Schaumburg\, 50 N Martingale Rd\, Schaumburg\, IL 60173\, United States\nEvent Website\n\nVenue & Location\nThe event takes place at the Chicago Marriott Schaumburg\, conveniently located in Schaumburg\, Illinois. With ample facilities and logistics support\, including efficient move-in windows and dock access\, this venue is well-suited for a successful trade show experience. \nSchaumburg IL: Our Services\nWe DESIGN\, PRODUCE\, INSTALL & DISMANTLE turnkey booth rentals in Schaumburg IL. Our comprehensive services cover everything from concept and design to modular frames\, branded SEG graphics\, and on-site installation and dismantling. We ensure that your exhibition space is attractively designed and fully functional for your needs. \nCustom Booth Models\nExplore our Snap Exhibitions Custom Booth Models\, tailored to meet your needs. We suggest popular footprints like: \n\n10×10 — Ideal for startups showcasing a single product and engaging customers at a close range.\n10×20 — Perfect for medium-sized businesses wanting to display multiple products or information.\n20×20 — Best suited for major players looking to make a loud statement with an immersive experience.\n\nEach of these options serves to enhance attendee engagement in your sector. For further assistance\, visit our full-service exhibit support page. \nFAQ\n\nWhat is AMERICAN MANUFACTURING SUMMIT 2026 booth rental?AMERICAN MANUFACTURING SUMMIT 2026 booth rental services provide exhibitors with custom-designed spaces that are fully functional and visually striking\, tailored specifically for the trade show.\nWhen is the AMERICAN MANUFACTURING SUMMIT 2026?The summit will take place from January 12–13\, 2026\, from 9:00 AM to 5:00 PM.\nWhat are the recommended booth sizes for the Applied Computer & Industrial Engineering sector?Booth sizes of 10×10 and 10×20 are ideal for engaging presentations and product demonstrations in this sector.\nWhy are aluminum booths better than wood?Aluminum booths are lighter\, easier to transport\, and provide greater durability\, making them a smart choice for exhibitors.\nWhat can you tell me about Schaumburg?Schaumburg is renowned for its vibrant business community and modern amenities\, making it a preferred location for events like the AMERICAN MANUFACTURING SUMMIT 2026.\nHow can SNAP EXHIBITIONS help to make everything perfect about their booth?We ensure that your booth is not only visually striking but also practical\, taking care of every detail from design to installation to ensure your success at the event.\n\nIn conclusion\, the AMERICAN MANUFACTURING SUMMIT 2026 booth rental services offer an ultimate advantage in presenting your business effectively. Don’t miss the opportunity — contact our team today to discuss your booth rental needs!
URL:https://ippe2026.com/event/american-manufacturing-summit-2026/
CATEGORIES:Applied Computer & Industrial Engineering,Assembly and Handling Technology,Decision Helping Tools & Management Services,Industrial Controllers,Subcontracting,Suppliers & Partners
END:VEVENT
END:VCALENDAR