BEGIN:VCALENDAR
VERSION:2.0
PRODID:-//IPPE 2026 Atlanta — Local Booth Builder &amp; Rentals - ECPv6.15.20//NONSGML v1.0//EN
CALSCALE:GREGORIAN
METHOD:PUBLISH
X-WR-CALNAME:IPPE 2026 Atlanta — Local Booth Builder &amp; Rentals
X-ORIGINAL-URL:https://ippe2026.com
X-WR-CALDESC:Events for IPPE 2026 Atlanta — Local Booth Builder &amp; Rentals
REFRESH-INTERVAL;VALUE=DURATION:PT1H
X-Robots-Tag:noindex
X-PUBLISHED-TTL:PT1H
BEGIN:VTIMEZONE
TZID:UTC
BEGIN:STANDARD
TZOFFSETFROM:+0000
TZOFFSETTO:+0000
TZNAME:UTC
DTSTART:20250101T000000
END:STANDARD
END:VTIMEZONE
BEGIN:VEVENT
DTSTART;TZID=UTC:20260324T090000
DTEND;TZID=UTC:20260326T235959
DTSTAMP:20260424T053541
CREATED:20251022T043208Z
LAST-MODIFIED:20251022T043208Z
UID:25911-1774342800-1774569599@ippe2026.com
SUMMARY:SHOPTALK US 2026
DESCRIPTION:Shoptalk US 2026 booth rental — Premium Exhibitor Guide & Custom Booth Options\nAbout Shoptalk US 2026\nVenue & Location\nLas Vegas NV: Our Services\nCustom Booth Models\nFAQ\nShoptalk US 2026 — Unveiling the Future of Retail\nShoptalk US 2026 booth rental offers exhibitors an impactful platform to showcase innovations. This event is where retail changemakers converge to explore the future of retail. Attendees gain insights into the latest technologies\, trends\, and business models shaping the retail landscape\, making it essential for professionals in the retail\, marketing\, and public relations sectors. \nFrom April 24–27\, join us at the Mandalay Bay Convention Center\, located at 3950 Las Vegas Blvd. South\, Las Vegas\, Nevada\, 89119\, USA. Discover how to navigate the ever-changing consumer behaviors in sectors like Retail & Shop Fitting Equipment & Service\, Marketing & Selling\, Public Relations & Advertising. For detailed event information\, visit the official Shoptalk website. \nKey Details:Dates: April 24–27\, 2026Venue: Mandalay Bay Convention Center\, Las Vegas\, NV\, USA \nVenue & Location\nThe Mandalay Bay Convention Center is a premier venue for large-scale expos. Located conveniently in Las Vegas\, it offers significant accessibility for exhibitors and attendees alike. With ample space for set-up and logistics\, this venue ensures a seamless experience for all participants. For any inquiries\, our team can be reached at the listed phone number. \nLas Vegas NV: Our Services\nIn Las Vegas NV\, we DESIGN\, PRODUCE\, INSTALL & DISMANTLE turnkey booth rentals. Our services include custom concept design\, modular frames\, branded SEG graphics\, reception/storage areas\, TV mounts\, and on-site installation and dismantling. We focus on creating high-impact spaces that attract visitors and enhance engagement. \nCustom Booth Models\nWe offer a variety of popular booth footprints tailored to meet the needs of exhibitors in the retail sector: \n\n10×10 Booths: Ideal for focused exhibits\, showcasing products to an engaged audience.\n10×20 Booths: Offers expanded space for demonstrating larger product ranges with immersive setups.\n20×20 Booths: Perfect for high-impact exhibitions\, designed to attract significant foot traffic.\n\nExplore more about our Snap Exhibitions Custom Booth Models and see how our designs can elevate your presence at the event. Our full-service exhibit support ensures every detail is taken care of\, so you can focus on making meaningful connections. \nFAQ\nWhat does Shoptalk US 2026 booth rental include?\nOur booth rental includes a range of customizable options to fit your needs\, designed for seamless integration into the Shoptalk event experience. \nWhen are the dates and hours for Shoptalk US 2026?\nThe event runs from April 24 to April 27\, 2026\, with daily hours from 9 AM to 5 PM. \nWhat booth sizes do you recommend for retail-focused exhibitors?\nWe suggest considering both 10×10 and 10×20 booth sizes\, as they provide sufficient space for showcasing products while maximizing audience engagement.\nWhy is an aluminum booth better than a wood one?\nAluminum booths offer a modern and lightweight design\, making them easier to transport and set up\, while also being more durable and less prone to damage. \nWhat unique attractions does Las Vegas offer for attendees of Shoptalk?\nLas Vegas is renowned for its vibrant entertainment scene\, excellent dining options\, and unlimited networking opportunities within the hospitality and retail industries. \nHow can SNAP EXHIBITIONS help me make my booth perfect?\nWe assist in all aspects of booth creation and management\, ensuring a professional and visually appealing presentation that resonates with attendees and aligns with your marketing goals. \nReady to make an impact at Shoptalk US 2026? Our Shoptalk US 2026 booth rental solutions are designed to elevate your brand. For more information and to secure your space\, contact our team today!
URL:https://ippe2026.com/event/shoptalk-us-2026/
CATEGORIES:Marketing & Selling,Public Relations & Advertising,Retail & Shop Fitting Equipment & Service
END:VEVENT
END:VCALENDAR