BEGIN:VCALENDAR
VERSION:2.0
PRODID:-//IPPE 2026 Atlanta — Local Booth Builder &amp; Rentals - ECPv6.15.20//NONSGML v1.0//EN
CALSCALE:GREGORIAN
METHOD:PUBLISH
X-WR-CALNAME:IPPE 2026 Atlanta — Local Booth Builder &amp; Rentals
X-ORIGINAL-URL:https://ippe2026.com
X-WR-CALDESC:Events for IPPE 2026 Atlanta — Local Booth Builder &amp; Rentals
REFRESH-INTERVAL;VALUE=DURATION:PT1H
X-Robots-Tag:noindex
X-PUBLISHED-TTL:PT1H
BEGIN:VTIMEZONE
TZID:UTC
BEGIN:STANDARD
TZOFFSETFROM:+0000
TZOFFSETTO:+0000
TZNAME:UTC
DTSTART:20250101T000000
END:STANDARD
END:VTIMEZONE
BEGIN:VEVENT
DTSTART;TZID=UTC:20260310T090000
DTEND;TZID=UTC:20260311T235959
DTSTAMP:20260424T122556
CREATED:20251022T174317Z
LAST-MODIFIED:20251022T174317Z
UID:26155-1773133200-1773273599@ippe2026.com
SUMMARY:SINGLE-SERVE CAPSULES NORTH AMERICA 2026
DESCRIPTION:SINGLE-SERVE CAPSULES NORTH AMERICA 2026 booth rental — Ultimate Exhibitor Guide & Custom Booth Options\nAbout SINGLE-SERVE CAPSULES NORTH AMERICA 2026\nSINGLE-SERVE CAPSULES NORTH AMERICA 2026 booth rental offers a unique opportunity for exhibitors to showcase their innovations in the evolving market of single-serve capsules. This congress attracts professionals across various sectors\, including Plastics\, Rubber\, Composites\, Waste Management – Recycling\, Environmental Protection\, Coffee\, Tea & Chocolate\, ensuring a diverse audience aimed at identifying opportunities and overcoming obstacles in the industry. \nKey Details: April 11–13\, 2026\, 9:00 AM–5:00 PM\, Renaissance Tampa International Plaza Hotel\, 4200 Jim Walter Blvd\, Tampa\, FL 33607\, USA. \nVenue & Location\nThe event will be hosted at the Renaissance Tampa International Plaza Hotel\, located at 4200 Jim Walter Blvd\, Tampa\, FL 33607\, USA. The venue provides convenient logistical access for exhibitors with ample move-in windows and efficient loading dock access. For any inquiries\, please feel free to reach out via phone. \nTampa\, FL: Our Services\nWe DESIGN\, PRODUCE\, INSTALL & DISMANTLE turnkey booth rentals in Tampa\, FL. Our comprehensive services encompass concept/design\, modular frames\, branded SEG graphics\, reception/storage\, TV mount\, and on-site installation & dismantling to ensure your exhibiting experience is seamless. \nCustom Booth Models\nExplore our Snap Exhibitions Custom Booth Models\, designed to cater to the various needs of exhibitors. Our popular footprints such as 10×10\, 10×20\, and 20×20 are ideal for showcasing innovative solutions within the listed sectors. Learn more about our full-service exhibit support that guarantees your brand stands out. \nFAQ\n\nWhat is SINGLE-SERVE CAPSULES NORTH AMERICA 2026 booth rental? It’s a tailored service for exhibitors to provide a custom experience at the trade show.\nWhat are the event dates and hours for SINGLE-SERVE CAPSULES NORTH AMERICA 2026? The event runs from April 11–13\, 2026\, from 9:00 AM to 5:00 PM.\nWhat booth sizes are recommended for the Plastics and Rubber sectors? 10×10 spaces are perfect for small brands\, while 10×20 and 20×20 options suit larger exhibitors wanting to make a bolder impact.\nWhy is an aluminum booth better than wood? Aluminum is lighter\, more durable\, and offers a modern aesthetic compared to traditional wood booths.\nWhat is the significance of Tampa for trade shows? Tampa is a vibrant hub\, offering excellent facilities and a diverse business community.\nWhat can I expect from SINGLE-SERVE CAPSULES NORTH AMERICA 2026? Expect insightful discussions\, networking opportunities\, and exhibitions showcasing the latest industry innovations.\nHow can SNAP EXHIBITIONS help make everything perfect about their booth? We provide customized turnkey solutions ensuring that every element of your booth aligns with your branding and messaging goals.\n\nIn summary\, SINGLE-SERVE CAPSULES NORTH AMERICA 2026 booth rental is your gateway to impactful networking and showcasing your innovations. To stand out and attract attention\, contact our team today!
URL:https://ippe2026.com/event/single-serve-capsules-north-america-2026/
CATEGORIES:Coffee,Composites,Environmental Protection,Plastics,Rubber,Tea & Chocolate,Waste Management - Recycling
END:VEVENT
END:VCALENDAR